BEGIN:VCALENDAR
VERSION:2.0
PRODID:-//Gereformeerde Kerk Voorthuizen - ECPv6.2.6.1//NONSGML v1.0//EN
CALSCALE:GREGORIAN
METHOD:PUBLISH
X-WR-CALNAME:Gereformeerde Kerk Voorthuizen
X-ORIGINAL-URL:https://www.gk-voorthuizen.nl
X-WR-CALDESC:Evenementen voor Gereformeerde Kerk Voorthuizen
REFRESH-INTERVAL;VALUE=DURATION:PT1H
X-Robots-Tag:noindex
X-PUBLISHED-TTL:PT1H
BEGIN:VTIMEZONE
TZID:Europe/Amsterdam
BEGIN:DAYLIGHT
TZOFFSETFROM:+0100
TZOFFSETTO:+0200
TZNAME:CEST
DTSTART:20250330T010000
END:DAYLIGHT
BEGIN:STANDARD
TZOFFSETFROM:+0200
TZOFFSETTO:+0100
TZNAME:CET
DTSTART:20251026T010000
END:STANDARD
END:VTIMEZONE
BEGIN:VEVENT
DTSTART;TZID=Europe/Amsterdam:20250518T093000
DTEND;TZID=Europe/Amsterdam:20250518T103000
DTSTAMP:20260421T202756
CREATED:20250215T093320Z
LAST-MODIFIED:20250516T170603Z
UID:40578-1747560600-1747564200@www.gk-voorthuizen.nl
SUMMARY:Ochtenddienst - bevestiging ambtsdragers
DESCRIPTION:U bent van harte welkom bij deze dienst in de kerk. \nDaarnaast wordt de dienst ook LIVE uitgezonden.\nDe uitzending begint ongeveer om 09:15\, de dienst zelf begint om 09:30. \nDe uitzendingen zijn te bekijken via  Kerkdienstgemist.nl\, Kerkomroep.nl en via ons eigen  Youtube kanaal \n– Voorganger: ds. Arend-Wim Estié\n– Ouderling van dienst: Erwin Kruitbosch\n– Welkomstteam: Gejonne van de Kamp en Albert van de Kamp\n– Muzikale begeleiding: Geurt Albert Buitenhuis\n– Lector: Marjan Schimmel– Koster: Bert van Veen\n– KND: Groep 1/2 en Groep 3/4/5 \n– Collecte: 1. Missionair werk PKN 2. Kerk\n– Autodienst: Bauke van de Ploeg\, 06 – 22 96 53 83\n– Liturgische kleur: Wit\n– Beamer: Nieko Versteeg\n– Video: Eddy Bakker \n  \nLiturgie 18-05-2025 09.30
URL:https://www.gk-voorthuizen.nl/agenda-item/ochtenddienst-bevestiging-ambtsdragers-1/
END:VEVENT
BEGIN:VEVENT
DTSTART;TZID=Europe/Amsterdam:20250518T190000
DTEND;TZID=Europe/Amsterdam:20250518T200000
DTSTAMP:20260421T202756
CREATED:20241230T095642Z
LAST-MODIFIED:20250516T170700Z
UID:40280-1747594800-1747598400@www.gk-voorthuizen.nl
SUMMARY:Avonddienst - LEER
DESCRIPTION:U bent van harte welkom bij deze dienst in de kerk. \nDaarnaast wordt de dienst ook LIVE uitgezonden.\nDe uitzending begint ongeveer om 18:45\, de dienst zelf begint om 19:00. \nDe uitzendingen zijn te bekijken via  Kerkdienstgemist.nl\, Kerkomroep.nl en via ons eigen  Youtube kanaal \n– Voorganger: ds. Arend-Wim Estié\n– Ouderling van dienst: Marjan Schimmel\n– Muzikale begeleiding: Evert van de Veen\n– Koster: Bert van Veen\n– Collecte: 1. Missionair werk PKN 2. Kerk\n– Liturgische kleur: Wit\n– Beamer: Nieko Versteeg\n– Video: Henk Stoter \n  \nLiturgie 18-05-2025 19.00
URL:https://www.gk-voorthuizen.nl/agenda-item/avonddienst-leer-27/
END:VEVENT
END:VCALENDAR