BEGIN:VCALENDAR
VERSION:2.0
PRODID:-//Gereformeerde Kerk Voorthuizen - ECPv6.2.6.1//NONSGML v1.0//EN
CALSCALE:GREGORIAN
METHOD:PUBLISH
X-ORIGINAL-URL:https://www.gk-voorthuizen.nl
X-WR-CALDESC:Evenementen voor Gereformeerde Kerk Voorthuizen
REFRESH-INTERVAL;VALUE=DURATION:PT1H
X-Robots-Tag:noindex
X-PUBLISHED-TTL:PT1H
BEGIN:VTIMEZONE
TZID:Europe/Amsterdam
BEGIN:DAYLIGHT
TZOFFSETFROM:+0100
TZOFFSETTO:+0200
TZNAME:CEST
DTSTART:20250330T010000
END:DAYLIGHT
BEGIN:STANDARD
TZOFFSETFROM:+0200
TZOFFSETTO:+0100
TZNAME:CET
DTSTART:20251026T010000
END:STANDARD
END:VTIMEZONE
BEGIN:VEVENT
DTSTART;TZID=Europe/Amsterdam:20250524T193000
DTEND;TZID=Europe/Amsterdam:20250524T193000
DTSTAMP:20260422T041140
CREATED:20250509T091450Z
LAST-MODIFIED:20250509T091450Z
UID:41048-1748115000-1748115000@www.gk-voorthuizen.nl
SUMMARY:Zangavond Stichting Woord en Daad
DESCRIPTION:
URL:https://www.gk-voorthuizen.nl/agenda-item/zangavond-stichting-woord-en-daad/
END:VEVENT
END:VCALENDAR