BEGIN:VCALENDAR
VERSION:2.0
PRODID:-//Gereformeerde Kerk Voorthuizen - ECPv6.2.6.1//NONSGML v1.0//EN
CALSCALE:GREGORIAN
METHOD:PUBLISH
X-WR-CALNAME:Gereformeerde Kerk Voorthuizen
X-ORIGINAL-URL:https://www.gk-voorthuizen.nl
X-WR-CALDESC:Evenementen voor Gereformeerde Kerk Voorthuizen
REFRESH-INTERVAL;VALUE=DURATION:PT1H
X-Robots-Tag:noindex
X-PUBLISHED-TTL:PT1H
BEGIN:VTIMEZONE
TZID:Europe/Amsterdam
BEGIN:DAYLIGHT
TZOFFSETFROM:+0100
TZOFFSETTO:+0200
TZNAME:CEST
DTSTART:20240331T010000
END:DAYLIGHT
BEGIN:STANDARD
TZOFFSETFROM:+0200
TZOFFSETTO:+0100
TZNAME:CET
DTSTART:20241027T010000
END:STANDARD
END:VTIMEZONE
BEGIN:VEVENT
DTSTART;TZID=Europe/Amsterdam:20240816T153000
DTEND;TZID=Europe/Amsterdam:20240816T190000
DTSTAMP:20260420T073826
CREATED:20240708T111110Z
LAST-MODIFIED:20240805T113733Z
UID:39284-1723822200-1723834800@www.gk-voorthuizen.nl
SUMMARY:KOMMA uurtje frituurtje
DESCRIPTION:
URL:https://www.gk-voorthuizen.nl/agenda-item/komma-uurtje-frituurtje/
END:VEVENT
BEGIN:VEVENT
DTSTART;TZID=Europe/Amsterdam:20240814T143000
DTEND;TZID=Europe/Amsterdam:20240814T163000
DTSTAMP:20260420T073826
CREATED:20240529T063902Z
LAST-MODIFIED:20240529T063902Z
UID:39086-1723645800-1723653000@www.gk-voorthuizen.nl
SUMMARY:Inloophuis De Ontmoeting
DESCRIPTION:spelletjes\, creatieve activiteiten en samen fietsen
URL:https://www.gk-voorthuizen.nl/agenda-item/inloophuis-de-ontmoeting-27/
END:VEVENT
BEGIN:VEVENT
DTSTART;TZID=Europe/Amsterdam:20240811T190000
DTEND;TZID=Europe/Amsterdam:20240811T200000
DTSTAMP:20260420T073826
CREATED:20240728T122950Z
LAST-MODIFIED:20240809T103434Z
UID:39459-1723402800-1723406400@www.gk-voorthuizen.nl
SUMMARY:Avonddienst HOOR!
DESCRIPTION:U bent van harte welkom bij deze dienst in de kerk. \nDaarnaast wordt de dienst ook LIVE uitgezonden.\nDe uitzending begint ongeveer om 18:45\, de dienst zelf begint om 19:00. \nDe uitzendingen zijn te bekijken via  Kerkdienstgemist.nl\, Kerkomroep.nl en via ons eigen  Youtube kanaal \n– Voorganger: ds. C.G. Kant Nijkerk\n– Ouderling van dienst: Ben Taken\n– Muzikale begeleiding: Evert van de Veen\n– Koster: Wiebe Goodijk\n– Collecte: 1. Zending in Pakistan 2. Kerk\n– Liturgische kleur: Groen\n– Beamer: Gerrit Coes\n– Video: Eddy Bakker \n  \nLiturgie 11-08-2024 19.00
URL:https://www.gk-voorthuizen.nl/agenda-item/avonddienst-hoor-37/
END:VEVENT
BEGIN:VEVENT
DTSTART;TZID=Europe/Amsterdam:20240811T093000
DTEND;TZID=Europe/Amsterdam:20240811T103000
DTSTAMP:20260420T073826
CREATED:20240728T122933Z
LAST-MODIFIED:20240809T103338Z
UID:39458-1723368600-1723372200@www.gk-voorthuizen.nl
SUMMARY:Ochtenddienst
DESCRIPTION:U bent van harte welkom bij deze dienst in de kerk. \nDaarnaast wordt de dienst ook LIVE uitgezonden.\nDe uitzending begint ongeveer om 09:15\, de dienst zelf begint om 09:30. \nDe uitzendingen zijn te bekijken via  Kerkdienstgemist.nl\, Kerkomroep.nl en via ons eigen  Youtube kanaal \n– Voorganger: ds. Arend-Wim Estié\n– Ouderling van dienst: Ben Taken\n– Welkomstteam: Otto van Middendorp en Alie van Middendorp\n– Muzikale begeleiding: Evert van de Veen\n– Koster: Wiebe Goodijk\n– KND: Vakantie Kinderkerk\n– Collecte: 1. Zending in Pakistan 2. Kerk\n– Autodienst: René Kerbel\, 06 558 002 57\n– Liturgische kleur: Groen\n– Beamer: Gerrit Coes\n– Video: Eddy Bakker \n  \nLiturgie 11-08-2024 09.30
URL:https://www.gk-voorthuizen.nl/agenda-item/ochtenddienst-75/
END:VEVENT
BEGIN:VEVENT
DTSTART;TZID=Europe/Amsterdam:20240810T193000
DTEND;TZID=Europe/Amsterdam:20240810T193000
DTSTAMP:20260420T073826
CREATED:20240729T110501Z
LAST-MODIFIED:20240729T110501Z
UID:39465-1723318200-1723318200@www.gk-voorthuizen.nl
SUMMARY:Orgelconcert
DESCRIPTION:Op zaterdag 10 augustus a.s. zal Bert Elbertsen uit Ede het vierde orgelconcert geven in zomerserie in onze kerk. Aanvang 19.30 uur. \nDe entreeprijs bedraagt € 8\,- (kinderen tot 15 jaar gratis)\nBetalen kan contant of met pinpas. De verrichtingen van de organist zijn te volgen via de beamer in de kerk. \nBert  zal  o.a. werken spelen van Bach\, Stamm\, Töpfer en Ritter..\nBert staat bekend om zijn aansprekende improvisaties. Hij besluit het concert dan ook met een improvisatie over een bekend lied.
URL:https://www.gk-voorthuizen.nl/agenda-item/orgelconcert-2/
END:VEVENT
BEGIN:VEVENT
DTSTART;TZID=Europe/Amsterdam:20240807T143000
DTEND;TZID=Europe/Amsterdam:20240807T163000
DTSTAMP:20260420T073826
CREATED:20240529T063826Z
LAST-MODIFIED:20240529T063826Z
UID:39084-1723041000-1723048200@www.gk-voorthuizen.nl
SUMMARY:Inloophuis De Ontmoeting
DESCRIPTION:spelletjes\, creatieve activiteiten en samen fietsen
URL:https://www.gk-voorthuizen.nl/agenda-item/inloophuis-de-ontmoeting-26/
END:VEVENT
BEGIN:VEVENT
DTSTART;TZID=Europe/Amsterdam:20240804T190000
DTEND;TZID=Europe/Amsterdam:20240804T200000
DTSTAMP:20260420T073826
CREATED:20240129T172400Z
LAST-MODIFIED:20240802T114052Z
UID:38544-1722798000-1722801600@www.gk-voorthuizen.nl
SUMMARY:Avonddienst ZING!
DESCRIPTION:U bent van harte welkom bij deze dienst in de kerk. \nDaarnaast wordt de dienst ook LIVE uitgezonden.\nDe uitzending begint ongeveer om 18:45\, de dienst zelf begint om 19:00. \nDe uitzendingen zijn te bekijken via  Kerkdienstgemist.nl\, Kerkomroep.nl en via ons eigen  Youtube kanaal \n– Voorganger: ds. Arend-Wim Estié\n– Ouderling van dienst: Ben Taken\n– Muzikale begeleiding: Jurriena Dijkema – \n– Koster: Yari Bakker\n– Collecte: 1. Diaconie 2. ZING!\n– Liturgische kleur: Groen\n– Beamer: Evert Hendriksen\n– Video: Jan Keizerwaard \n  \nLiturgie 04-08-2024 19.00
URL:https://www.gk-voorthuizen.nl/agenda-item/avonddienst-zing-39/
END:VEVENT
BEGIN:VEVENT
DTSTART;TZID=Europe/Amsterdam:20240804T093000
DTEND;TZID=Europe/Amsterdam:20240804T103000
DTSTAMP:20260420T073826
CREATED:20240129T143718Z
LAST-MODIFIED:20240802T113959Z
UID:38530-1722763800-1722767400@www.gk-voorthuizen.nl
SUMMARY:Ochtenddienst
DESCRIPTION:U bent van harte welkom bij deze dienst in de kerk. \nDaarnaast wordt de dienst ook LIVE uitgezonden.\nDe uitzending begint ongeveer om 09:15\, de dienst zelf begint om 09:30. \nDe uitzendingen zijn te bekijken via  Kerkdienstgemist.nl\, Kerkomroep.nl en via ons eigen  Youtube kanaal \n– Voorganger: ds. Arend-Wim Estié\n– Ouderling van dienst: Riek Schut\n– Welkomstteam: Joke Pot en Yvette van der Geest\n– Muzikale begeleiding: Geurt Albert Buitenhuis\n– Koster: Yari Bakker\n– KND: Vakantie Kinderkerk\n– Collecte: 1. Diaconie 2. ZING!\n– Autodienst: Peter van de Kamp\, 06 – 46 18 75 06\n– Liturgische kleur: Groen\n– Beamer: Evert Hendriksen\n– Video: Jan Keizerwaard \n  \nLiturgie 04-08-2024 09.30
URL:https://www.gk-voorthuizen.nl/agenda-item/ochtenddienst-74/
END:VEVENT
BEGIN:VEVENT
DTSTART;TZID=Europe/Amsterdam:20240803T193000
DTEND;TZID=Europe/Amsterdam:20240803T193000
DTSTAMP:20260420T073826
CREATED:20240722T111105Z
LAST-MODIFIED:20240722T111105Z
UID:39404-1722713400-1722713400@www.gk-voorthuizen.nl
SUMMARY:Orgelconcert
DESCRIPTION:Orgelconcert Gert van Hoef uit Barneveld \nZaterdag 3 augustus is er in de Gereformeerde kerk van Voorthuizen weer een orgelconcert. De bekende\, jonge  organist Gert van Hoef uit Barneveld  (oud leerling van Evert van de Veen) speelt dan een afwisselend programma met werken van o.a. Lemmens\, Bach\, Widor\, Zwart en Asma.\nGert van Hoef is vooral bekend geworden door de talloze filmpjes op Youtube. Hij wordt dan ook wel de “Youtube-organist” genoemd. Het concert begint om 19.30 uur.\nDe entreeprijs bedraagt € 8\,00 (Kinderen tot 15 jaar gratis) Graag gepast of met pin betalen. \nVoor meer info: www.orgelconcertenvoorthuizen.nl \n 
URL:https://www.gk-voorthuizen.nl/agenda-item/orgelconcert/
END:VEVENT
BEGIN:VEVENT
DTSTART;TZID=Europe/Amsterdam:20240731T143000
DTEND;TZID=Europe/Amsterdam:20240731T163000
DTSTAMP:20260420T073826
CREATED:20240529T063548Z
LAST-MODIFIED:20240529T063548Z
UID:39080-1722436200-1722443400@www.gk-voorthuizen.nl
SUMMARY:Inloophuis De Ontmoeting
DESCRIPTION:spelletjes\, creatieve activiteiten en samen fietsen
URL:https://www.gk-voorthuizen.nl/agenda-item/inloophuis-de-ontmoeting-24/
END:VEVENT
BEGIN:VEVENT
DTSTART;TZID=Europe/Amsterdam:20240728T190000
DTEND;TZID=Europe/Amsterdam:20240728T200000
DTSTAMP:20260420T073826
CREATED:20240129T143713Z
LAST-MODIFIED:20240726T055108Z
UID:38529-1722193200-1722196800@www.gk-voorthuizen.nl
SUMMARY:Avonddienst
DESCRIPTION:U bent van harte welkom bij deze dienst in de kerk. \nDaarnaast wordt de dienst ook LIVE uitgezonden.\nDe uitzending begint ongeveer om 18:45\, de dienst zelf begint om 19:00. \nDe uitzendingen zijn te bekijken via  Kerkdienstgemist.nl\, Kerkomroep.nl en via ons eigen  Youtube kanaal \n– Voorganger: Marcelle van Schoonhoven\n– Ouderling van dienst: Ben Taken\n– Muzikale begeleiding: Geurt Albert Buitenhuis\n– Koster: Eelko van Malestijn\n– Collecte: 1. Diaconie 2. Kerk\n– Liturgische kleur: Groen\n– Beamer: Gerrit Coes\n– Video: Hein van de Veen \n  \nLiturgie 28-07-2024 19.00
URL:https://www.gk-voorthuizen.nl/agenda-item/avonddienst-13/
END:VEVENT
BEGIN:VEVENT
DTSTART;TZID=Europe/Amsterdam:20240728T093000
DTEND;TZID=Europe/Amsterdam:20240728T093000
DTSTAMP:20260420T073826
CREATED:20240129T143706Z
LAST-MODIFIED:20240726T055019Z
UID:38528-1722159000-1722159000@www.gk-voorthuizen.nl
SUMMARY:Ochtenddienst
DESCRIPTION:U bent van harte welkom bij deze dienst in de kerk. \nDaarnaast wordt de dienst ook LIVE uitgezonden.\nDe uitzending begint ongeveer om 09:15\, de dienst zelf begint om 09:30. \nDe uitzendingen zijn te bekijken via  Kerkdienstgemist.nl\, Kerkomroep.nl en via ons eigen  Youtube kanaal \n– Voorganger: ds. Arend-Wim Estié\n– Ouderling van dienst: Ben Taken\n– Welkomstteam: Gejonne van de Kamp- van De kraats en Albert van de Kamp\n– Muzikale begeleiding: Jurriena Dijkema\n– Koster: Eelko van Malestijn\n– KND: Vakantie Kinderkerk\n– Collecte: 1. Diaconie 2. Kerk\n– Autodienst: Henk van Hierden\, 06 – 13 89 17 15\n– Liturgische kleur: Groen\n– Beamer: Gerrit Coes\n– Video: Hein van de Veen \n  \nLiturgie 28-07-2024 09.30
URL:https://www.gk-voorthuizen.nl/agenda-item/ochtenddienst-73/
END:VEVENT
BEGIN:VEVENT
DTSTART;TZID=Europe/Amsterdam:20240724T143000
DTEND;TZID=Europe/Amsterdam:20240724T163000
DTSTAMP:20260420T073826
CREATED:20240529T063711Z
LAST-MODIFIED:20240529T063711Z
UID:39082-1721831400-1721838600@www.gk-voorthuizen.nl
SUMMARY:Inloophuis De Ontmoeting
DESCRIPTION:spelletjes\, creatieve activiteiten en samen fietsen
URL:https://www.gk-voorthuizen.nl/agenda-item/inloophuis-de-ontmoeting-25/
END:VEVENT
BEGIN:VEVENT
DTSTART;TZID=Europe/Amsterdam:20240721T190000
DTEND;TZID=Europe/Amsterdam:20240721T200000
DTSTAMP:20260420T073826
CREATED:20240129T172215Z
LAST-MODIFIED:20240719T132724Z
UID:38542-1721588400-1721592000@www.gk-voorthuizen.nl
SUMMARY:Avonddienst ZING!
DESCRIPTION:U bent van harte welkom bij deze dienst in de kerk. \nDaarnaast wordt de dienst ook LIVE uitgezonden.\nDe uitzending begint ongeveer om 18:45\, de dienst zelf begint om 19:00. \nDe uitzendingen zijn te bekijken via  Kerkdienstgemist.nl\, Kerkomroep.nl en via ons eigen  Youtube kanaal \n– Voorganger: Marcelle van Schoonhoven\n– Ouderling van dienst: Ben Taken\n– Muzikale begeleiding: Evert van de Veen – \n– Koster: Bert Franken\n– Collecte: 1. Onderhoud gebouwen 2. ZING!\n– Liturgische kleur: Groen\n– Beamer: Nieko Versteeg\n– Video: Wim Noorlander \n  \nLiturgie 21-07-2024 19.00
URL:https://www.gk-voorthuizen.nl/agenda-item/avonddienst-zing-38/
END:VEVENT
BEGIN:VEVENT
DTSTART;TZID=Europe/Amsterdam:20240721T093000
DTEND;TZID=Europe/Amsterdam:20240721T103000
DTSTAMP:20260420T073826
CREATED:20240129T143650Z
LAST-MODIFIED:20240719T132630Z
UID:38526-1721554200-1721557800@www.gk-voorthuizen.nl
SUMMARY:Ochtenddienst
DESCRIPTION:U bent van harte welkom bij deze dienst in de kerk. \nDaarnaast wordt de dienst ook LIVE uitgezonden.\nDe uitzending begint ongeveer om 09:15\, de dienst zelf begint om 09:30. \nDe uitzendingen zijn te bekijken via  Kerkdienstgemist.nl\, Kerkomroep.nl en via ons eigen  Youtube kanaal \n– Voorganger: Ds. A.J. Gijsbertsen\n– Ouderling van dienst: Janko van der Vlist\n– Welkomstteam: Henk Lokhorst en Rina Lokhorst\n– Muzikale begeleiding: Hein van de Veen\n– Koster: Eelko van Malestijn\n– KND: Vakantie Kinderkerk\n– Collecte: 1. Onderhoud gebouwen 2. ZING!\n– Autodienst: Jan Laanstra\, 06 – 22 39 69 14\n– Liturgische kleur: Groen\n– Beamer: Nieko Versteeg\n– Video: Robin Bouwman \n  \nLiturgie 21-07-2024 09.30
URL:https://www.gk-voorthuizen.nl/agenda-item/ochtenddienst-72/
END:VEVENT
BEGIN:VEVENT
DTSTART;TZID=Europe/Amsterdam:20240720T193000
DTEND;TZID=Europe/Amsterdam:20240720T193000
DTSTAMP:20260420T073826
CREATED:20240713T111140Z
LAST-MODIFIED:20240713T111140Z
UID:39393-1721503800-1721503800@www.gk-voorthuizen.nl
SUMMARY:Zomerorgelconcert
DESCRIPTION:Op zaterdag 20 juli a.s. zal Evert van de Veen het eerste orgelconcert geven in zomerserie in onze kerk. Aanvang 19.30 uur. \nDe entreeprijs bedraagt € 8\,- (kinderen tot 15 jaar gratis)\nBetalen kan contant of met pinpas. De verrichtingen van de organist zijn te volgen via de beamer in de kerk. \nEvert van de Veen zal o.a. werken spelen van Bach\, Böhm\, Guilmant\, Becker\, Attwood en Asma. Ook speelt hij een eigen koraalbewerking.
URL:https://www.gk-voorthuizen.nl/agenda-item/zomerorgelconcert/
END:VEVENT
BEGIN:VEVENT
DTSTART;TZID=Europe/Amsterdam:20240719T200000
DTEND;TZID=Europe/Amsterdam:20240719T200000
DTSTAMP:20260420T073826
CREATED:20240701T114255Z
LAST-MODIFIED:20240701T114304Z
UID:39228-1721419200-1721419200@www.gk-voorthuizen.nl
SUMMARY:Zomerzangavond
DESCRIPTION:
URL:https://www.gk-voorthuizen.nl/agenda-item/zomerzangavond/
END:VEVENT
BEGIN:VEVENT
DTSTART;TZID=Europe/Amsterdam:20240717T143000
DTEND;TZID=Europe/Amsterdam:20240717T163000
DTSTAMP:20260420T073826
CREATED:20240529T063510Z
LAST-MODIFIED:20240529T063510Z
UID:39078-1721226600-1721233800@www.gk-voorthuizen.nl
SUMMARY:Inloophuis De Ontmoeting
DESCRIPTION:spelletjes\, creatieve activiteiten en samen fietsen
URL:https://www.gk-voorthuizen.nl/agenda-item/inloophuis-de-ontmoeting-23/
END:VEVENT
BEGIN:VEVENT
DTSTART;TZID=Europe/Amsterdam:20240716T184500
DTEND;TZID=Europe/Amsterdam:20240716T194500
DTSTAMP:20260420T073826
CREATED:20240417T140831Z
LAST-MODIFIED:20240417T140831Z
UID:38961-1721155500-1721159100@www.gk-voorthuizen.nl
SUMMARY:Samen bidden voor
DESCRIPTION:
URL:https://www.gk-voorthuizen.nl/agenda-item/samen-bidden-voor-3/
END:VEVENT
BEGIN:VEVENT
DTSTART;TZID=Europe/Amsterdam:20240714T190000
DTEND;TZID=Europe/Amsterdam:20240714T190000
DTSTAMP:20260420T073826
CREATED:20240622T173723Z
LAST-MODIFIED:20240712T093620Z
UID:39206-1720983600-1720983600@www.gk-voorthuizen.nl
SUMMARY:Avonddienst HOOR!
DESCRIPTION:U bent van harte welkom bij deze dienst in de kerk. \nDaarnaast wordt de dienst ook LIVE uitgezonden.\nDe uitzending begint ongeveer om 18:45\, de dienst zelf begint om 19:00. \nDe uitzendingen zijn te bekijken via  Kerkdienstgemist.nl\, Kerkomroep.nl en via ons eigen  Youtube kanaal \n– Voorganger: drs. Gerrit Westerlaken\n– Ouderling van dienst: Janko van der Vlist\n– Muzikale begeleiding: Hein van de Veen\n– Koster: Bert Franken\n– Collecte: 1. Exodus 2. Kerk\n– Liturgische kleur: Groen\n– Beamer: Patrick Schuiteman\n– Video: Henk Stoter \n  \nLiturgie 14-07-2024 19.00
URL:https://www.gk-voorthuizen.nl/agenda-item/avonddienst-hoor-36/
END:VEVENT
BEGIN:VEVENT
DTSTART;TZID=Europe/Amsterdam:20240714T093000
DTEND;TZID=Europe/Amsterdam:20240714T093000
DTSTAMP:20260420T073826
CREATED:20240622T173705Z
LAST-MODIFIED:20240713T194727Z
UID:39205-1720949400-1720949400@www.gk-voorthuizen.nl
SUMMARY:Ochtenddienst
DESCRIPTION:U bent van harte welkom bij deze dienst in de kerk. \nDaarnaast wordt de dienst ook LIVE uitgezonden.De uitzending begint ongeveer om 09:15\, de dienst zelf begint om 09:30. \nDe uitzendingen zijn te bekijken via  Kerkdienstgemist.nl\, Kerkomroep.nl en via ons eigen  Youtube kanaal \n– Voorganger: ds. P. Dekker – Wierden– Ouderling van dienst: Johan Borren– Welkomstteam: Fenna Versteeg en Remco van der Geest– Muzikale begeleiding: Evert van de Veen– Koster: Bert Franken– KND: Vakantie Kinderkerk – Collecte: 1. Exodus 2. Kerk– Autodienst: Bauke van de Ploeg\, 06 – 22 96 53 83– Liturgische kleur: Groen– Beamer: Patrick Schuiteman– Video: Henk Stoter
URL:https://www.gk-voorthuizen.nl/agenda-item/ochtenddienst-71/
END:VEVENT
BEGIN:VEVENT
DTSTART;TZID=Europe/Amsterdam:20240710T143000
DTEND;TZID=Europe/Amsterdam:20240710T163000
DTSTAMP:20260420T073826
CREATED:20240529T063435Z
LAST-MODIFIED:20240529T063435Z
UID:39076-1720621800-1720629000@www.gk-voorthuizen.nl
SUMMARY:Inloophuis De Ontmoeting
DESCRIPTION:spelletjes\, creatieve activiteiten en samen fietsen
URL:https://www.gk-voorthuizen.nl/agenda-item/inloophuis-de-ontmoeting-22/
END:VEVENT
BEGIN:VEVENT
DTSTART;TZID=Europe/Amsterdam:20240707T201500
DTEND;TZID=Europe/Amsterdam:20240707T220000
DTSTAMP:20260420T073826
CREATED:20240704T133239Z
LAST-MODIFIED:20240704T144240Z
UID:39273-1720383300-1720389600@www.gk-voorthuizen.nl
SUMMARY:Jongerenkring
DESCRIPTION:O.l.v. Ds Arjan Berensen
URL:https://www.gk-voorthuizen.nl/agenda-item/jongerenkring-1/
END:VEVENT
BEGIN:VEVENT
DTSTART;TZID=Europe/Amsterdam:20240707T190000
DTEND;TZID=Europe/Amsterdam:20240707T200000
DTSTAMP:20260420T073826
CREATED:20240707T132655Z
LAST-MODIFIED:20240707T143656Z
UID:39283-1720378800-1720382400@www.gk-voorthuizen.nl
SUMMARY:ZING!
DESCRIPTION:U bent van harte welkom bij deze dienst in de kerk. \nDaarnaast wordt de dienst ook LIVE uitgezonden. De uitzending begint ongeveer om 18:45\, de dienst zelf begint om 19:00. \nDe uitzendingen zijn te bekijken via  Kerkdienstgemist.nl\, Kerkomroep.nl en via ons eigen  Youtube kanaal \n– Voorganger: Ds. Arjan Berensen – Ouderling van dienst: Jan-Hein Nijhof– Muzikale begeleiding:  Zang/muziekgroep ReTurn– Koster: Bert van Veen – Collecte: 1. Diaconie 2. ZING! – Liturgische kleur: Groen – Beamer: Gerrit Coes– Thema: ‘Oude liederen’ – Video: Eddy Bakker
URL:https://www.gk-voorthuizen.nl/agenda-item/zing-1/
END:VEVENT
BEGIN:VEVENT
DTSTART;TZID=Europe/Amsterdam:20240707T093000
DTEND;TZID=Europe/Amsterdam:20240707T103000
DTSTAMP:20260420T073826
CREATED:20240704T133316Z
LAST-MODIFIED:20240704T194610Z
UID:39274-1720344600-1720348200@www.gk-voorthuizen.nl
SUMMARY:Instap-\, overstap- en uitzwaaidienst
DESCRIPTION:U bent van harte welkom bij deze dienst in de kerk. \nDaarnaast wordt de dienst ook LIVE uitgezonden.\nDe uitzending begint ongeveer om 09:15\, de dienst zelf begint om 09:30. \nDe uitzendingen zijn te bekijken via  Kerkdienstgemist.nl\, Kerkomroep.nl en via ons eigen  Youtube kanaal \n– Voorganger: Ds. Arjan Berensen\n– Ouderling van dienst: Marjan Schimmel-Dam\n– Welkomstteam: Alette Coes en Bea Hendriksen\n– Muzikale begeleiding: Hein van de Veen\n– Koster: Bert van Veen\n– KND:\n– Collecte: 1. Diaconie 2. ZING!\n– Autodienst: Geurt Buurman\, 06 274 512 99\n– Liturgische kleur: Groen\n– Beamer: Gerrit Coes\n– Video: Eddy Bakker \n  \nLiturgie 07-07-2024 09.30
URL:https://www.gk-voorthuizen.nl/agenda-item/instap-overstap-en-uitzwaaidienst-1/
END:VEVENT
BEGIN:VEVENT
DTSTART;TZID=Europe/Amsterdam:20240705T140000
DTEND;TZID=Europe/Amsterdam:20240705T150000
DTSTAMP:20260420T073826
CREATED:20240212T075003Z
LAST-MODIFIED:20240531T071932Z
UID:38693-1720188000-1720191600@www.gk-voorthuizen.nl
SUMMARY:Huwelijksbevestiging
DESCRIPTION:Bevestiging van het huwelijk van Henk van de Kamp en Laura van Lagen.
URL:https://www.gk-voorthuizen.nl/agenda-item/huwelijksbevestiging-2/
END:VEVENT
BEGIN:VEVENT
DTSTART;TZID=Europe/Amsterdam:20240703T143000
DTEND;TZID=Europe/Amsterdam:20240703T163000
DTSTAMP:20260420T073827
CREATED:20240529T063400Z
LAST-MODIFIED:20240529T063400Z
UID:39074-1720017000-1720024200@www.gk-voorthuizen.nl
SUMMARY:Inloophuis De Ontmoeting
DESCRIPTION:spelletjes\, creatieve activiteiten en samen fietsen
URL:https://www.gk-voorthuizen.nl/agenda-item/inloophuis-de-ontmoeting-21/
END:VEVENT
BEGIN:VEVENT
DTSTART;TZID=Europe/Amsterdam:20240630T190000
DTEND;TZID=Europe/Amsterdam:20240630T200000
DTSTAMP:20260420T073827
CREATED:20240330T134622Z
LAST-MODIFIED:20240627T174416Z
UID:38868-1719774000-1719777600@www.gk-voorthuizen.nl
SUMMARY:Avonddienst
DESCRIPTION:U bent van harte welkom bij deze dienst in de kerk. \nDaarnaast wordt de dienst ook LIVE uitgezonden.\nDe uitzending begint ongeveer om 18:45\, de dienst zelf begint om 19:00. \nDe uitzendingen zijn te bekijken via  Kerkdienstgemist.nl\, Kerkomroep.nl en via ons eigen  Youtube kanaal \n– Voorganger: ds. Arend-Wim Estié\n– Ouderling van dienst: Johan Borren\n– Muzikale begeleiding: Geurt Albert Buitenhuis\n– Koster: Eelko van Malestijn\n– Collecte: 1. Ouderen thuiszorg in Moldavië 2. Kerk\n– Liturgische kleur: Groen\n– Beamer: Patrick Schuiteman\n– Video: Hein van de Veen \n  \nLiturgie 30-06-2024 19.00
URL:https://www.gk-voorthuizen.nl/agenda-item/avonddienst-12/
END:VEVENT
BEGIN:VEVENT
DTSTART;TZID=Europe/Amsterdam:20240630T093000
DTEND;TZID=Europe/Amsterdam:20240630T093000
DTSTAMP:20260420T073827
CREATED:20240330T135110Z
LAST-MODIFIED:20240627T174321Z
UID:38869-1719739800-1719739800@www.gk-voorthuizen.nl
SUMMARY:Avondmaalsdienst
DESCRIPTION:U bent van harte welkom bij deze dienst in de kerk. \nDaarnaast wordt de dienst ook LIVE uitgezonden.\nDe uitzending begint ongeveer om 09:15\, de dienst zelf begint om 09:30. \nDe uitzendingen zijn te bekijken via  Kerkdienstgemist.nl\, Kerkomroep.nl en via ons eigen  Youtube kanaal \n– Voorganger: ds. Arend-Wim Estié\n– Ouderling van dienst: Janko van der Vlist\n– Welkomstteam: Marjan Schimmel-Dam en Hennie van Ramshorst\n– Muzikale begeleiding: Evert van de Veen\n– Koster: Bert Franken\n– KND: Groep 1/2 en Groep 3/4/5\n– Collecte: 1. Ouderen thuiszorg in Moldavië 2. Kerk\n– Autodienst: Henk Bossenbroek\, 06 250 662 49\n– Liturgische kleur: Wit\n– Beamer: Patrick Schuiteman\n– Video: Jan Keizerwaard \n  \nLiturgie 30-06-2024 09.30
URL:https://www.gk-voorthuizen.nl/agenda-item/avondmaalsdienst-1/
END:VEVENT
BEGIN:VEVENT
DTSTART;TZID=Europe/Amsterdam:20240629T083000
DTEND;TZID=Europe/Amsterdam:20240629T143000
DTSTAMP:20260420T073827
CREATED:20240229T194829Z
LAST-MODIFIED:20240229T194829Z
UID:38751-1719649800-1719671400@www.gk-voorthuizen.nl
SUMMARY:Boeldag
DESCRIPTION:
URL:https://www.gk-voorthuizen.nl/agenda-item/boeldag-2/
END:VEVENT
END:VCALENDAR