BEGIN:VCALENDAR
VERSION:2.0
PRODID:-//Gereformeerde Kerk Voorthuizen - ECPv6.2.6.1//NONSGML v1.0//EN
CALSCALE:GREGORIAN
METHOD:PUBLISH
X-WR-CALNAME:Gereformeerde Kerk Voorthuizen
X-ORIGINAL-URL:https://www.gk-voorthuizen.nl
X-WR-CALDESC:Evenementen voor Gereformeerde Kerk Voorthuizen
REFRESH-INTERVAL;VALUE=DURATION:PT1H
X-Robots-Tag:noindex
X-PUBLISHED-TTL:PT1H
BEGIN:VTIMEZONE
TZID:Europe/Amsterdam
BEGIN:DAYLIGHT
TZOFFSETFROM:+0100
TZOFFSETTO:+0200
TZNAME:CEST
DTSTART:20260329T010000
END:DAYLIGHT
BEGIN:STANDARD
TZOFFSETFROM:+0200
TZOFFSETTO:+0100
TZNAME:CET
DTSTART:20261025T010000
END:STANDARD
END:VTIMEZONE
BEGIN:VEVENT
DTSTART;TZID=Europe/Amsterdam:20260426T093000
DTEND;TZID=Europe/Amsterdam:20260426T103000
DTSTAMP:20260420T091149
CREATED:20260419T064409Z
LAST-MODIFIED:20260419T075452Z
UID:42290-1777195800-1777199400@www.gk-voorthuizen.nl
SUMMARY:Ochtenddienst
DESCRIPTION:U bent van harte welkom bij deze dienst in de kerk. \nDaarnaast wordt de dienst ook LIVE uitgezonden. De uitzending begint ongeveer om 09:15\, de dienst zelf begint om 09:30. \nDe uitzendingen zijn te bekijken via Kerkdienstgemist.nl\, Kerkomroep.nl en via ons eigen Youtube kanaal \n– Voorganger: Ds. Arjan Berensen – Ouderling van dienst: Riek Schut – Welkomstteam: Marjan Schimmel en Joke Pot – Muzikale begeleiding: Jurriena Dijkema– Koster: Yari Bakker– Gebedsteam:   – KND: Groepen 1 t/m 8  – Collecte: 1. Diaconie 2. Kerk – Autodienst: Bauke van der Ploeg – 06-22965383 – Liturgische kleur: Wit – Beamer: Patrick Schuiteman – Video: Eddy Bakker
URL:https://www.gk-voorthuizen.nl/agenda-item/ochtenddienst-99/
END:VEVENT
BEGIN:VEVENT
DTSTART;TZID=Europe/Amsterdam:20260426T190000
DTEND;TZID=Europe/Amsterdam:20260426T200000
DTSTAMP:20260420T091149
CREATED:20260419T064532Z
LAST-MODIFIED:20260419T075546Z
UID:42291-1777230000-1777233600@www.gk-voorthuizen.nl
SUMMARY:Themadienst Doopvragen
DESCRIPTION:U bent van harte welkom bij deze dienst in de kerk. \nDaarnaast wordt de dienst ook LIVE uitgezonden. De uitzending begint ongeveer om 18:45\, de dienst zelf begint om 19:00. \nDe uitzendingen zijn te bekijken via Kerkdienstgemist.nl\, Kerkomroep.nl en via ons eigen Youtube kanaal \n– Voorganger: Ds. Arjan Berensen – Ouderling van dienst: Ben Taken – Muzikale begeleiding: Evert van de Veen – Koster: Yari Bakker – Collecte: 1. Diaconie 2. Kerk – Liturgische kleur: Wit – Beamer: Patrick Schuiteman – Video: Eddy Bakker
URL:https://www.gk-voorthuizen.nl/agenda-item/themadienst-doopvragen-1/
END:VEVENT
BEGIN:VEVENT
DTSTART;TZID=Europe/Amsterdam:20260428T093000
DTEND;TZID=Europe/Amsterdam:20260428T093000
DTSTAMP:20260420T091149
CREATED:20251106T205816Z
LAST-MODIFIED:20251106T205822Z
UID:41572-1777368600-1777368600@www.gk-voorthuizen.nl
SUMMARY:Open morgen voor vrouwen
DESCRIPTION:
URL:https://www.gk-voorthuizen.nl/agenda-item/open-morgen-voor-vrouwen-64/
END:VEVENT
BEGIN:VEVENT
DTSTART;TZID=Europe/Amsterdam:20260503T093000
DTEND;TZID=Europe/Amsterdam:20260503T103000
DTSTAMP:20260420T091149
CREATED:20260419T064733Z
LAST-MODIFIED:20260419T075756Z
UID:42293-1777800600-1777804200@www.gk-voorthuizen.nl
SUMMARY:Ochtenddienst - Belijdenis en Doopdienst
DESCRIPTION:U bent van harte welkom bij deze dienst in de kerk. \nDaarnaast wordt de dienst ook LIVE uitgezonden. De uitzending begint ongeveer om 09:15\, de dienst zelf begint om 09:30. \nDe uitzendingen zijn te bekijken via Kerkdienstgemist.nl\, Kerkomroep.nl en via ons eigen Youtube kanaal \n– Voorganger: ds. Arend-Wim Estié – Ouderling van dienst: Jan Wildeboer – Welkomstteam: Greet Keizerwaard en Fenna Versteeg – Muzikale begeleiding: Hein van de Veen – Koster: Bert Franken– Gebedsteam: Riek Schut en Gonnie Bouwman  – KND: Groepen 1 t/m 8  – Collecte: 1. Diaconie 2. Kerk – Autodienst: Jan Laanstra – 06-22396914 – Liturgische kleur: Wit – Beamer: Evert Hendriksen – Video: Jan Keizerwaard
URL:https://www.gk-voorthuizen.nl/agenda-item/ochtenddienst-belijdenis-en-doopdienst-1/
END:VEVENT
BEGIN:VEVENT
DTSTART;TZID=Europe/Amsterdam:20260503T190000
DTEND;TZID=Europe/Amsterdam:20260503T200000
DTSTAMP:20260420T091149
CREATED:20260419T064826Z
LAST-MODIFIED:20260419T075831Z
UID:42294-1777834800-1777838400@www.gk-voorthuizen.nl
SUMMARY:Avonddienst - HOOR!
DESCRIPTION:U bent van harte welkom bij deze dienst in de kerk. \nDaarnaast wordt de dienst ook LIVE uitgezonden. De uitzending begint ongeveer om 18:45\, de dienst zelf begint om 19:00. \nDe uitzendingen zijn te bekijken via Kerkdienstgemist.nl\, Kerkomroep.nl en via ons eigen Youtube kanaal \n– Voorganger: Prof. dr. Eveline van Staalduine – Ouderling van dienst: Jan Wildeboer – Muzikale begeleiding: Evert van de Veen – Koster: Bert Franken – Collecte: 1. Diaconie 2. Kerk – Liturgische kleur: Wit – Beamer: Evert Hendriksen – Video: Jan Keizerwaard
URL:https://www.gk-voorthuizen.nl/agenda-item/avonddienst-hoor-50/
END:VEVENT
BEGIN:VEVENT
DTSTART;TZID=Europe/Amsterdam:20260510T093000
DTEND;TZID=Europe/Amsterdam:20260510T103000
DTSTAMP:20260420T091149
CREATED:20260419T064858Z
LAST-MODIFIED:20260419T075910Z
UID:42295-1778405400-1778409000@www.gk-voorthuizen.nl
SUMMARY:Ochtenddienst
DESCRIPTION:U bent van harte welkom bij deze dienst in de kerk. \nDaarnaast wordt de dienst ook LIVE uitgezonden. De uitzending begint ongeveer om 09:15\, de dienst zelf begint om 09:30. \nDe uitzendingen zijn te bekijken via Kerkdienstgemist.nl\, Kerkomroep.nl en via ons eigen Youtube kanaal \n– Voorganger: ds. Arend-Wim Estié – Ouderling van dienst: Bart Bouwman – Welkomstteam: Remco van der Geest en Yvette van der Geest – Muzikale begeleiding: Evert van de Veen – Koster: Bert Franken– Gebedsteam: Dirk van Hierden en Inge van Veldhuisen  – KND: Groepen 1 t/m 8  – Collecte: 1. Diaconie 2. Kerk – Autodienst: Peter van de Kamp – 06-46187506 – Liturgische kleur: Wit – Beamer: Gerrit Coes – Video: Robin Bouwman
URL:https://www.gk-voorthuizen.nl/agenda-item/ochtenddienst-99/
END:VEVENT
BEGIN:VEVENT
DTSTART;TZID=Europe/Amsterdam:20260510T190000
DTEND;TZID=Europe/Amsterdam:20260510T200000
DTSTAMP:20260420T091149
CREATED:20260419T065003Z
LAST-MODIFIED:20260419T080009Z
UID:42296-1778439600-1778443200@www.gk-voorthuizen.nl
SUMMARY:Avonddienst
DESCRIPTION:U bent van harte welkom bij deze dienst in de kerk. \nDaarnaast wordt de dienst ook LIVE uitgezonden. De uitzending begint ongeveer om 18:45\, de dienst zelf begint om 19:00. \nDe uitzendingen zijn te bekijken via Kerkdienstgemist.nl\, Kerkomroep.nl en via ons eigen Youtube kanaal \n– Voorganger: Ds. Martin van der Klis – Ouderling van dienst: Dirk van Hierden – Muzikale begeleiding: Evert van de Veen – Koster: Bert Franken – Collecte: 1. Diaconie 2. Kerk – Liturgische kleur: Wit – Beamer: Gerrit Coes – Video: Robin Bouwman
URL:https://www.gk-voorthuizen.nl/agenda-item/avonddienst-30/
END:VEVENT
BEGIN:VEVENT
DTSTART;TZID=Europe/Amsterdam:20260512T093000
DTEND;TZID=Europe/Amsterdam:20260512T093000
DTSTAMP:20260420T091149
CREATED:20251106T205853Z
LAST-MODIFIED:20251106T205902Z
UID:41574-1778578200-1778578200@www.gk-voorthuizen.nl
SUMMARY:Open morgen voor vrouwen
DESCRIPTION:
URL:https://www.gk-voorthuizen.nl/agenda-item/open-morgen-voor-vrouwen-65/
END:VEVENT
BEGIN:VEVENT
DTSTART;TZID=Europe/Amsterdam:20260514T093000
DTEND;TZID=Europe/Amsterdam:20260514T103000
DTSTAMP:20260420T091149
CREATED:20260419T065044Z
LAST-MODIFIED:20260419T080050Z
UID:42297-1778751000-1778754600@www.gk-voorthuizen.nl
SUMMARY:Ochtenddienst - Hemelvaartsdag
DESCRIPTION:U bent van harte welkom bij deze dienst in de kerk. \nDaarnaast wordt de dienst ook LIVE uitgezonden. De uitzending begint ongeveer om 09:15\, de dienst zelf begint om 09:30. \nDe uitzendingen zijn te bekijken via Kerkdienstgemist.nl\, Kerkomroep.nl en via ons eigen Youtube kanaal \n– Voorganger: Ds. Arjan Berensen – Ouderling van dienst: Gert van de Kraats– Muzikale begeleiding: Evert van de Veen – Koster: Wiebe Goodijk– Collecte: 1. Diaconie 2. Kerk– Liturgische kleur: Wit – Beamer: Patrick Schuiteman – Video: Eddy Bakker
URL:https://www.gk-voorthuizen.nl/agenda-item/ochtenddienst-hemelvaartsdag-1/
END:VEVENT
BEGIN:VEVENT
DTSTART;TZID=Europe/Amsterdam:20260517T093000
DTEND;TZID=Europe/Amsterdam:20260517T103000
DTSTAMP:20260420T091149
CREATED:20260419T065117Z
LAST-MODIFIED:20260419T102237Z
UID:42298-1779010200-1779013800@www.gk-voorthuizen.nl
SUMMARY:Ochtenddienst - Bevestiging ambtsdragers
DESCRIPTION:U bent van harte welkom bij deze dienst in de kerk. \nDaarnaast wordt de dienst ook LIVE uitgezonden. De uitzending begint ongeveer om 09:15\, de dienst zelf begint om 09:30. \nDe uitzendingen zijn te bekijken via Kerkdienstgemist.nl\, Kerkomroep.nl en via ons eigen Youtube kanaal \n– Voorganger: ds. Arend-Wim Estié – Ouderling van dienst: Melanda Bouw – Welkomstteam: Henk Lokhorst en Rina Lokhorst – Muzikale begeleiding: Hein van de Veen – Koster: Wiebe Goodijk– Gebedsteam: Jan-Hein Nijhof en Marja Batterink  – KND: Groepen 1 t/m 8  – Collecte: 1. Diaconie 2. Kerk – Autodienst: Henk Ruiter – 06-29584458 – Liturgische kleur: Rood – Beamer:  – Video:
URL:https://www.gk-voorthuizen.nl/agenda-item/ochtenddienst-bevestiging-ambtsdragers-3/
END:VEVENT
BEGIN:VEVENT
DTSTART;TZID=Europe/Amsterdam:20260517T190000
DTEND;TZID=Europe/Amsterdam:20260517T200000
DTSTAMP:20260420T091149
CREATED:20260419T065200Z
LAST-MODIFIED:20260419T080204Z
UID:42299-1779044400-1779048000@www.gk-voorthuizen.nl
SUMMARY:Avonddienst - LEER!
DESCRIPTION:U bent van harte welkom bij deze dienst in de kerk. \nDaarnaast wordt de dienst ook LIVE uitgezonden. De uitzending begint ongeveer om 18:45\, de dienst zelf begint om 19:00. \nDe uitzendingen zijn te bekijken via Kerkdienstgemist.nl\, Kerkomroep.nl en via ons eigen Youtube kanaal \n– Voorganger: ds. Arend-Wim Estié – Ouderling van dienst: Gert van de Kraats – Muzikale begeleiding: Jurriena Dijkema – Koster: Wiebe Goodijk – Collecte: 1. Diaconie 2. Kerk – Liturgische kleur: Wit – Beamer:  – Video:
URL:https://www.gk-voorthuizen.nl/agenda-item/avonddienst-leer-37/
END:VEVENT
BEGIN:VEVENT
DTSTART;TZID=Europe/Amsterdam:20260519T184500
DTEND;TZID=Europe/Amsterdam:20260519T184500
DTSTAMP:20260420T091149
CREATED:20260109T125715Z
LAST-MODIFIED:20260109T125723Z
UID:41757-1779216300-1779216300@www.gk-voorthuizen.nl
SUMMARY:Samen bidden voor
DESCRIPTION:
URL:https://www.gk-voorthuizen.nl/agenda-item/samen-bidden-voor-25/
END:VEVENT
BEGIN:VEVENT
DTSTART;TZID=Europe/Amsterdam:20260524T093000
DTEND;TZID=Europe/Amsterdam:20260524T103000
DTSTAMP:20260420T091149
CREATED:20260419T065235Z
LAST-MODIFIED:20260419T080245Z
UID:42300-1779615000-1779618600@www.gk-voorthuizen.nl
SUMMARY:Ochtenddienst - Pinksteren
DESCRIPTION:U bent van harte welkom bij deze dienst in de kerk. \nDaarnaast wordt de dienst ook LIVE uitgezonden. De uitzending begint ongeveer om 09:15\, de dienst zelf begint om 09:30. \nDe uitzendingen zijn te bekijken via Kerkdienstgemist.nl\, Kerkomroep.nl en via ons eigen Youtube kanaal \n– Voorganger: Ds. Arjan Berensen – Ouderling van dienst: Melanda Bouw – Welkomstteam: Otto van Middendorp en Alie van Middendorp – Muzikale begeleiding: Evert van de Veen – Koster: Bert Franken– Gebedsteam: Eline van t Verlaat en Milo Laseur  – KND: Groepen 1 t/m 8  – Collecte: 1. Zending 2. Kerk – Autodienst: Gerard van de Pol – 06-30913996 – Liturgische kleur: Rood – Beamer:  – Video:
URL:https://www.gk-voorthuizen.nl/agenda-item/ochtenddienst-pinksteren-1/
END:VEVENT
BEGIN:VEVENT
DTSTART;TZID=Europe/Amsterdam:20260524T190000
DTEND;TZID=Europe/Amsterdam:20260524T200000
DTSTAMP:20260420T091149
CREATED:20260419T065316Z
LAST-MODIFIED:20260419T080321Z
UID:42301-1779649200-1779652800@www.gk-voorthuizen.nl
SUMMARY:Avonddienst - ZING!
DESCRIPTION:U bent van harte welkom bij deze dienst in de kerk. \nDaarnaast wordt de dienst ook LIVE uitgezonden. De uitzending begint ongeveer om 18:45\, de dienst zelf begint om 19:00. \nDe uitzendingen zijn te bekijken via Kerkdienstgemist.nl\, Kerkomroep.nl en via ons eigen Youtube kanaal \n– Voorganger: Ds. Egbert Egberts – Ouderling van dienst: Dirk van Hierden– Organist: Evert van de Veen – Met medewerking van: Gospelkoor Spring – Koster: Bert Franken – Collecte: 1. Zending 2. ZING! – Liturgische kleur: Rood – Beamer:  – Video:
URL:https://www.gk-voorthuizen.nl/agenda-item/avonddienst-zing-58/
END:VEVENT
BEGIN:VEVENT
DTSTART;TZID=Europe/Amsterdam:20260526T093000
DTEND;TZID=Europe/Amsterdam:20260526T093000
DTSTAMP:20260420T091149
CREATED:20251106T205934Z
LAST-MODIFIED:20251106T205940Z
UID:41576-1779787800-1779787800@www.gk-voorthuizen.nl
SUMMARY:Open morgen voor vrouwen
DESCRIPTION:
URL:https://www.gk-voorthuizen.nl/agenda-item/open-morgen-voor-vrouwen-66/
END:VEVENT
BEGIN:VEVENT
DTSTART;TZID=Europe/Amsterdam:20260531T093000
DTEND;TZID=Europe/Amsterdam:20260531T103000
DTSTAMP:20260420T091149
CREATED:20260419T065432Z
LAST-MODIFIED:20260419T080439Z
UID:42302-1780219800-1780223400@www.gk-voorthuizen.nl
SUMMARY:Afscheid & verbintenis ds. Arjan Berensen
DESCRIPTION:U bent van harte welkom bij deze dienst in de kerk. \nDaarnaast wordt de dienst ook LIVE uitgezonden.De uitzending begint ongeveer om 09:15\, de dienst zelf begint om 09:30. \nDe uitzendingen zijn te bekijken via Kerkdienstgemist.nl\, Kerkomroep.nl en via ons eigen Youtube kanaal \n– Spreker: Ds. Arjan Berensen – Welkomstteam: Albert van de Kamp en Bea Hendriksen – Muzikale begeleiding: Evert van de Veen en Hein van de Veen – Lector: Alberta Vink-Star– Koster: Martin Slingerland– Gebedsteam: Ben Taken en Aline van Nes– Vier kids: Groepen 1 t/m 8  – Collecte: 1. Diaconie 2. VIER! – Autodienst: Henk Bossenbroek – 06-25066249 – Beamer:  – Video:
URL:https://www.gk-voorthuizen.nl/agenda-item/afscheid-verbintenis-ds-arjan-berensen-1/
END:VEVENT
BEGIN:VEVENT
DTSTART;TZID=Europe/Amsterdam:20260531T190000
DTEND;TZID=Europe/Amsterdam:20260531T200000
DTSTAMP:20260420T091149
CREATED:20260419T065516Z
LAST-MODIFIED:20260419T080520Z
UID:42303-1780254000-1780257600@www.gk-voorthuizen.nl
SUMMARY:Avonddienst
DESCRIPTION:U bent van harte welkom bij deze dienst in de kerk. \nDaarnaast wordt de dienst ook LIVE uitgezonden. De uitzending begint ongeveer om 18:45\, de dienst zelf begint om 19:00. \nDe uitzendingen zijn te bekijken via Kerkdienstgemist.nl\, Kerkomroep.nl en via ons eigen Youtube kanaal \n– Voorganger: Dhr. Cock Kroon – Ouderling van dienst: Jan Wildeboer – Muzikale begeleiding: Evert van de Veen – Koster: Martin Slingerland – Collecte: 1. Diaconie 2. Kerk – Liturgische kleur: Wit – Beamer:  – Video:
URL:https://www.gk-voorthuizen.nl/agenda-item/avonddienst-31/
END:VEVENT
BEGIN:VEVENT
DTSTART;TZID=Europe/Amsterdam:20260607T093000
DTEND;TZID=Europe/Amsterdam:20260607T103000
DTSTAMP:20260420T091149
CREATED:20260320T072254Z
LAST-MODIFIED:20260419T102628Z
UID:42037-1780824600-1780828200@www.gk-voorthuizen.nl
SUMMARY:Ochtenddienst - Avondmaalsviering
DESCRIPTION:U bent van harte welkom bij deze dienst in de kerk. \nDaarnaast wordt de dienst ook LIVE uitgezonden. De uitzending begint ongeveer om 09:15\, de dienst zelf begint om 09:30. \nDe uitzendingen zijn te bekijken via  Kerkdienstgemist.nl\, Kerkomroep.nl en via ons eigen  Youtube kanaal \n– Voorganger: Prof. dr. Eveline van Staalduine – Ouderling van dienst: Jan Wildeboer – Welkomstteam:  – Muzikale begeleiding: Hein van de Veen– Koster: Yari Bakker– Gebedsteam: Marjan Schimmel en Gert van de Bor – KND:   – Collecte: 1.  2.  – Autodienst: Geurt Buurman – 06-27451299 – Liturgische kleur: Wit – Beamer:  – Video:
URL:https://www.gk-voorthuizen.nl/agenda-item/ochtenddienst-avondmaalsviering-14/
END:VEVENT
BEGIN:VEVENT
DTSTART;TZID=Europe/Amsterdam:20260607T150000
DTEND;TZID=Europe/Amsterdam:20260607T154500
DTSTAMP:20260420T091149
CREATED:20251219T123644Z
LAST-MODIFIED:20251219T134858Z
UID:41653-1780844400-1780847100@www.gk-voorthuizen.nl
SUMMARY:Avondmaalsviering Nieuw Avondrust
DESCRIPTION:
URL:https://www.gk-voorthuizen.nl/agenda-item/avondmaalsviering-nieuw-avondrust-8/
END:VEVENT
BEGIN:VEVENT
DTSTART;TZID=Europe/Amsterdam:20260607T190000
DTEND;TZID=Europe/Amsterdam:20260607T200000
DTSTAMP:20260420T091149
CREATED:20250416T074915Z
LAST-MODIFIED:20260102T095211Z
UID:40929-1780858800-1780862400@www.gk-voorthuizen.nl
SUMMARY:Avonddienst - HOOR!
DESCRIPTION:U bent van harte welkom bij deze dienst in de kerk. \nDaarnaast wordt de dienst ook LIVE uitgezonden. De uitzending begint ongeveer om 18:45\, de dienst zelf begint om 19:00. \nDe uitzendingen zijn te bekijken via  Kerkdienstgemist.nl\, Kerkomroep.nl en via ons eigen  Youtube kanaal \n– Voorganger: Ds. Robert-Jan van Amstel – Ouderling van dienst: Jan Wildeboer – Muzikale begeleiding: Jurriena Dijkema – Koster: Yari Bakker – Collecte: 1.  2.  – Liturgische kleur: Wit – Beamer:  – Video:
URL:https://www.gk-voorthuizen.nl/agenda-item/avonddienst-hoor-52/
END:VEVENT
BEGIN:VEVENT
DTSTART;TZID=Europe/Amsterdam:20260614T103000
DTEND;TZID=Europe/Amsterdam:20260614T113000
DTSTAMP:20260420T091149
CREATED:20260419T123616Z
LAST-MODIFIED:20260419T134620Z
UID:42324-1781433000-1781436600@www.gk-voorthuizen.nl
SUMMARY:Ochtenddienst - VIER!
DESCRIPTION:U bent van harte welkom bij deze VIER! in de kerk. \nDaarnaast wordt de dienst ook LIVE uitgezonden. De uitzending begint ongeveer om 10:15\, de dienst zelf begint om 10:30. \nDe uitzendingen zijn te bekijken via Kerkdienstgemist.nl\, Kerkomroep.nl en via ons eigen Youtube kanaal. \n– Voorganger: Ds. Arjan Berensen – Ouderling van dienst: Giralda Broekhuizen – Welkomstteam:  – Muzikale begeleiding:  – Koster: Martin Slingerland– Gebedsteam: Bart Bouwman en Joanne van Donkersgoed – VIER! Kids:   – Collecte: 1.  2.  – Autodienst: Bauke van der Ploeg – 06-22965383 – Liturgische kleur: Groen – Beamer:  – Video:
URL:https://www.gk-voorthuizen.nl/agenda-item/ochtenddienst-vier-7/
END:VEVENT
BEGIN:VEVENT
DTSTART;TZID=Europe/Amsterdam:20260614T190000
DTEND;TZID=Europe/Amsterdam:20260614T200000
DTSTAMP:20260420T091149
CREATED:20260419T124320Z
LAST-MODIFIED:20260419T135321Z
UID:42327-1781463600-1781467200@www.gk-voorthuizen.nl
SUMMARY:Avonddienst - ZING!
DESCRIPTION:U bent van harte welkom bij deze dienst in de kerk. \nDaarnaast wordt de dienst ook LIVE uitgezonden.De uitzending begint ongeveer om 18:45\, de dienst zelf begint om 19:00. \nDe uitzendingen zijn te bekijken via Kerkdienstgemist.nl\, Kerkomroep.nl en via ons eigen Youtube kanaal. \n– Voorganger: Ds. Mariëlle Rodenburg – Splint – Ouderling van dienst: Ben Taken – Muzikale begeleiding: Hein van de Veen– Medewerkering aan deze dienst: Kithara uit Oldebroek – Koster: Bert Franken – Collecte: 1.  2.  – Liturgische kleur: Groen – Beamer:  – Video:
URL:https://www.gk-voorthuizen.nl/agenda-item/avonddienst-zing-59/
END:VEVENT
BEGIN:VEVENT
DTSTART;TZID=Europe/Amsterdam:20260616T184500
DTEND;TZID=Europe/Amsterdam:20260616T184500
DTSTAMP:20260420T091149
CREATED:20260109T125757Z
LAST-MODIFIED:20260109T125804Z
UID:41759-1781635500-1781635500@www.gk-voorthuizen.nl
SUMMARY:Samen bidden voor
DESCRIPTION:
URL:https://www.gk-voorthuizen.nl/agenda-item/samen-bidden-voor-26/
END:VEVENT
BEGIN:VEVENT
DTSTART;TZID=Europe/Amsterdam:20260621T093000
DTEND;TZID=Europe/Amsterdam:20260621T103000
DTSTAMP:20260420T091149
CREATED:20260418T120732Z
LAST-MODIFIED:20260418T131737Z
UID:42259-1782034200-1782037800@www.gk-voorthuizen.nl
SUMMARY:Ochtenddienst
DESCRIPTION:U bent van harte welkom bij deze dienst in de kerk. \nDaarnaast wordt de dienst ook LIVE uitgezonden.De uitzending begint ongeveer om 09:15\, de dienst zelf begint om 09:30. \nDe uitzendingen zijn te bekijken via Kerkdienstgemist.nl\, Kerkomroep.nl en via ons eigen Youtube kanaal \n– Voorganger: drs. Gerrit Westerlaken – Welkomstteam:  – Muzikale begeleiding: Evert van de Veen – Lector: – Koster: Bert van Veen– Gebedsteam: Dirk van Hierden en Inge van Veldhuisen– Kindernevendienst:   – Collecte: 1.  2.  – Autodienst: Jan Laanstra – 06-22396914 – Beamer:  – Video:
URL:https://www.gk-voorthuizen.nl/agenda-item/ochtenddienst-99/
END:VEVENT
BEGIN:VEVENT
DTSTART;TZID=Europe/Amsterdam:20260621T190000
DTEND;TZID=Europe/Amsterdam:20260621T200000
DTSTAMP:20260420T091149
CREATED:20260419T124929Z
LAST-MODIFIED:20260419T135932Z
UID:42328-1782068400-1782072000@www.gk-voorthuizen.nl
SUMMARY:Avonddienst
DESCRIPTION:U bent van harte welkom bij deze dienst in de kerk. \nDaarnaast wordt de dienst ook LIVE uitgezonden. De uitzending begint ongeveer om 18:45\, de dienst zelf begint om 19:00. \nDe uitzendingen zijn te bekijken via Kerkdienstgemist.nl\, Kerkomroep.nl en via ons eigen Youtube kanaal \n– Voorganger:  – Ouderling van dienst:  – Muzikale begeleiding: Evert van de Veen – Koster: Bert van Veen – Collecte: 1.  2.  – Liturgische kleur: Groen – Beamer:  – Video:
URL:https://www.gk-voorthuizen.nl/agenda-item/avonddienst-32/
END:VEVENT
BEGIN:VEVENT
DTSTART;TZID=Europe/Amsterdam:20260628T100000
DTEND;TZID=Europe/Amsterdam:20260628T110000
DTSTAMP:20260420T091149
CREATED:20260419T125559Z
LAST-MODIFIED:20260419T140601Z
UID:42329-1782640800-1782644400@www.gk-voorthuizen.nl
SUMMARY:Openluchtdienst
DESCRIPTION:U bent van harte werlkom bij deze dienst op het oranjeterrein\, Roelenengweg 27\, Voorthuizen. \nHet pastoresteam voor deze dienst bestaat uit:– Hans van Rumpt (Hervormde gemeente PKN)– Arjan Berensen (Gereformeerde kerk PKN)– David Verboom (NEM) \nHet thema dit jaar is: Sta eens ff stil \nDaarnaast wordt de dienst ook LIVE uitgezonden.De uitzending begint ongeveer om 09:45\, de dienst zelf begint om 10:00. \nDe uitzendingen zijn te bekijken via Kerkdienstgemist.nl\, Kerkomroep.nl en via ons eigen Youtube kanaal \nMocht de openluchtdienst wegens omstandigheden toch niet doorgaan\, dan hebben we een dienst in onze eigen kerk\, ook om 10:00 uur.Dan gelden onderstaande gegevens. \n– Voorganger: ds. Arend-Wim Estié– Ouderling van dienst: – Welkomstteam: – Muzikale begeleiding: – Koster: – Collecte: 1. – Autodienst: Peter van de Kamp – 06-46187506– Liturgische kleur: Groen– Beamer: – Video:
URL:https://www.gk-voorthuizen.nl/agenda-item/openluchtdienst-6/
END:VEVENT
BEGIN:VEVENT
DTSTART;TZID=Europe/Amsterdam:20260628T190000
DTEND;TZID=Europe/Amsterdam:20260628T200000
DTSTAMP:20260420T091149
CREATED:20250416T075855Z
LAST-MODIFIED:20260407T141606Z
UID:40932-1782673200-1782676800@www.gk-voorthuizen.nl
SUMMARY:Avonddienst - LEER!
DESCRIPTION:U bent van harte welkom bij deze dienst in de kerk. \nDaarnaast wordt de dienst ook LIVE uitgezonden. De uitzending begint ongeveer om 18:45\, de dienst zelf begint om 19:00. \nDe uitzendingen zijn te bekijken via  Kerkdienstgemist.nl\, Kerkomroep.nl en via ons eigen  Youtube kanaal \n– Voorganger: ds. Arend-Wim Estié – Ouderling van dienst: Ben Taken – Muzikale begeleiding: Hein van de Veen – Koster: Martin Slingerland – Collecte: 1.  2.  – Liturgische kleur: Groen – Beamer:  – Video:
URL:https://www.gk-voorthuizen.nl/agenda-item/avonddienst-leer-38/
END:VEVENT
BEGIN:VEVENT
DTSTART;TZID=Europe/Amsterdam:20260705T093000
DTEND;TZID=Europe/Amsterdam:20260705T103000
DTSTAMP:20260420T091149
CREATED:20260302T183252Z
LAST-MODIFIED:20260419T102754Z
UID:41896-1783243800-1783247400@www.gk-voorthuizen.nl
SUMMARY:Ochtenddienst
DESCRIPTION:U bent van harte welkom bij deze dienst in de kerk. \nDaarnaast wordt de dienst ook LIVE uitgezonden. De uitzending begint ongeveer om 09:15\, de dienst zelf begint om 09:30. \nDe uitzendingen zijn te bekijken via  Kerkdienstgemist.nl\, Kerkomroep.nl en via ons eigen  Youtube kanaal \n– Voorganger: ds. Arend-Wim Estié – Ouderling van dienst: Ben Taken – Welkomstteam:  – Muzikale begeleiding: Evert van de Veen – Koster: Bert van Veen– Gebedsteam: Jan Heuver en Giralda Broekhuizen – KND: Groepen 1 t/m 8  – Collecte: 1.  2.  – Autodienst: René Kerbel – 06-55800257 – Liturgische kleur: Groen – Beamer:  – Video:
URL:https://www.gk-voorthuizen.nl/agenda-item/ochtenddienst-99/
END:VEVENT
BEGIN:VEVENT
DTSTART;TZID=Europe/Amsterdam:20260705T190000
DTEND;TZID=Europe/Amsterdam:20260705T200000
DTSTAMP:20260420T091149
CREATED:20250416T080110Z
LAST-MODIFIED:20260326T074226Z
UID:40933-1783278000-1783281600@www.gk-voorthuizen.nl
SUMMARY:Avonddienst - HOOR!
DESCRIPTION:U bent van harte welkom bij deze dienst in de kerk. \nDaarnaast wordt de dienst ook LIVE uitgezonden. De uitzending begint ongeveer om 18:45\, de dienst zelf begint om 19:00. \nDe uitzendingen zijn te bekijken via  Kerkdienstgemist.nl\, Kerkomroep.nl en via ons eigen  Youtube kanaal \n– Voorganger: ds. Marcelle van Schoonhoven – Ouderling van dienst:  – Muzikale begeleiding: Evert van de Veen – Koster: Bert van Veen – Collecte: 1.  2.  – Liturgische kleur: Groen – Beamer:  – Video:
URL:https://www.gk-voorthuizen.nl/agenda-item/avonddienst-hoor-53/
END:VEVENT
BEGIN:VEVENT
DTSTART;TZID=Europe/Amsterdam:20260712T093000
DTEND;TZID=Europe/Amsterdam:20260712T103000
DTSTAMP:20260420T091149
CREATED:20260302T183231Z
LAST-MODIFIED:20260417T084727Z
UID:41895-1783848600-1783852200@www.gk-voorthuizen.nl
SUMMARY:Ochtenddienst - Overstapdienst
DESCRIPTION:U bent van harte welkom bij deze dienst in de kerk. \nDaarnaast wordt de dienst ook LIVE uitgezonden. De uitzending begint ongeveer om 09:15\, de dienst zelf begint om 09:30. \nDe uitzendingen zijn te bekijken via  Kerkdienstgemist.nl\, Kerkomroep.nl en via ons eigen  Youtube kanaal \n– Voorganger: Arnold Vellekoop – Ouderling van dienst:  – Welkomstteam:  – Muzikale begeleiding: Hein van de Veen – Koster: Bert Franken– Gebedsteam: Jan-Hein Nijhof en Marja Batterink – KND: Nvt  – Collecte: 1.  2.  – Autodienst: Henk Ruiter\, 06 295 844 58 – Liturgische kleur: Groen – Beamer:  – Video:
URL:https://www.gk-voorthuizen.nl/agenda-item/ochtenddienst-overstapdienst-1/
END:VEVENT
END:VCALENDAR