BEGIN:VCALENDAR
VERSION:2.0
PRODID:-//Gereformeerde Kerk Voorthuizen - ECPv6.2.6.1//NONSGML v1.0//EN
CALSCALE:GREGORIAN
METHOD:PUBLISH
X-WR-CALNAME:Gereformeerde Kerk Voorthuizen
X-ORIGINAL-URL:https://www.gk-voorthuizen.nl
X-WR-CALDESC:Evenementen voor Gereformeerde Kerk Voorthuizen
REFRESH-INTERVAL;VALUE=DURATION:PT1H
X-Robots-Tag:noindex
X-PUBLISHED-TTL:PT1H
BEGIN:VTIMEZONE
TZID:Europe/Amsterdam
BEGIN:DAYLIGHT
TZOFFSETFROM:+0100
TZOFFSETTO:+0200
TZNAME:CEST
DTSTART:20240331T010000
END:DAYLIGHT
BEGIN:STANDARD
TZOFFSETFROM:+0200
TZOFFSETTO:+0100
TZNAME:CET
DTSTART:20241027T010000
END:STANDARD
END:VTIMEZONE
BEGIN:VEVENT
DTSTART;TZID=Europe/Amsterdam:20240612T143000
DTEND;TZID=Europe/Amsterdam:20240612T163000
DTSTAMP:20260420T163136
CREATED:20240529T063107Z
LAST-MODIFIED:20240529T063107Z
UID:39068-1718202600-1718209800@www.gk-voorthuizen.nl
SUMMARY:Inloophuis De Ontmoeting
DESCRIPTION:spelletjes\, creatieve activiteiten en samen fietsen
URL:https://www.gk-voorthuizen.nl/agenda-item/inloophuis-de-ontmoeting-18/
END:VEVENT
BEGIN:VEVENT
DTSTART;TZID=Europe/Amsterdam:20240609T201500
DTEND;TZID=Europe/Amsterdam:20240609T220000
DTSTAMP:20260420T163136
CREATED:20240317T120402Z
LAST-MODIFIED:20240317T131402Z
UID:38801-1717964100-1717970400@www.gk-voorthuizen.nl
SUMMARY:Jongerenkring - Geloof op dinsdagmiddag
DESCRIPTION:
URL:https://www.gk-voorthuizen.nl/agenda-item/jongerenkring-geloof-op-dinsdagmiddag-1/
END:VEVENT
BEGIN:VEVENT
DTSTART;TZID=Europe/Amsterdam:20240609T190000
DTEND;TZID=Europe/Amsterdam:20240609T200000
DTSTAMP:20260420T163136
CREATED:20240129T143000Z
LAST-MODIFIED:20240606T173042Z
UID:38512-1717959600-1717963200@www.gk-voorthuizen.nl
SUMMARY:Avonddienst - HOOR!
DESCRIPTION:U bent van harte welkom bij deze dienst in de kerk. \nDaarnaast wordt de dienst ook LIVE uitgezonden.\nDe uitzending begint ongeveer om 18:45\, de dienst zelf begint om 19:00. \nDe uitzendingen zijn te bekijken via  Kerkdienstgemist.nl\, Kerkomroep.nl en via ons eigen  Youtube kanaal \n– Voorganger: Arjen van der Wolf\n– Ouderling van dienst: Erwin Kruitbosch\n– Muzikale begeleiding: Jurriena Dijkema\n– Koster: Bert Franken\n– Collecte: 1. Diaconie 2. Kerk\n– Liturgische kleur: Groen\n– Beamer: Gerrit Coes\n– Video: Hein van de Veen \n  \nLiturgie 09-06-2024 19.00
URL:https://www.gk-voorthuizen.nl/agenda-item/avonddienst-hoor-34/
END:VEVENT
BEGIN:VEVENT
DTSTART;TZID=Europe/Amsterdam:20240609T150000
DTEND;TZID=Europe/Amsterdam:20240609T160000
DTSTAMP:20260420T163136
CREATED:20240129T142955Z
LAST-MODIFIED:20240129T153956Z
UID:38511-1717945200-1717948800@www.gk-voorthuizen.nl
SUMMARY:Avondmaalsviering in Nieuw Avondrust
DESCRIPTION:
URL:https://www.gk-voorthuizen.nl/agenda-item/avondmaalsviering-in-nieuw-avondrust-1/
END:VEVENT
BEGIN:VEVENT
DTSTART;TZID=Europe/Amsterdam:20240609T093000
DTEND;TZID=Europe/Amsterdam:20240609T103000
DTSTAMP:20260420T163136
CREATED:20240606T101325Z
LAST-MODIFIED:20240606T172948Z
UID:39113-1717925400-1717929000@www.gk-voorthuizen.nl
SUMMARY:Ochtenddienst
DESCRIPTION:U bent van harte welkom bij deze dienst in de kerk. \nDaarnaast wordt de dienst ook LIVE uitgezonden.\nDe uitzending begint ongeveer om 09:15\, de dienst zelf begint om 09:30. \nDe uitzendingen zijn te bekijken via  Kerkdienstgemist.nl\, Kerkomroep.nl en via ons eigen  Youtube kanaal \n– Voorganger: Ds. Arjan Berensen\n– Ouderling van dienst: Ben Taken\n– Welkomstteam: Greet Keizerwaard en Bea Hendriksen\n– Muzikale begeleiding: Evert van de Veen\n– Koster: Wiebe Goodijk\n– KND: Groep 1/2 en Groep 3/4/5\n– Collecte: 1. DIaconie 2. Kerk\n– Autodienst: René Kerbel\, 06 558 002 57\n– Liturgische kleur: Groen\n– Beamer: Gerrit Coes\n– Video: Jan Keizerwaard \n  \nLiturgie 09-06-2024 09.30
URL:https://www.gk-voorthuizen.nl/agenda-item/ochtenddienst-70/
END:VEVENT
BEGIN:VEVENT
DTSTART;TZID=Europe/Amsterdam:20240605T143000
DTEND;TZID=Europe/Amsterdam:20240605T163000
DTSTAMP:20260420T163136
CREATED:20240529T063023Z
LAST-MODIFIED:20240529T063023Z
UID:39066-1717597800-1717605000@www.gk-voorthuizen.nl
SUMMARY:Inloophuis De Ontmoeting
DESCRIPTION:met spelletjes\, creatieve activiteiten en samen fietsen
URL:https://www.gk-voorthuizen.nl/agenda-item/inloophuis-de-ontmoeting-17/
END:VEVENT
BEGIN:VEVENT
DTSTART;TZID=Europe/Amsterdam:20240602T190000
DTEND;TZID=Europe/Amsterdam:20240602T200000
DTSTAMP:20260420T163136
CREATED:20240129T142941Z
LAST-MODIFIED:20240530T142827Z
UID:38509-1717354800-1717358400@www.gk-voorthuizen.nl
SUMMARY:Avonddienst LEER!
DESCRIPTION:U bent van harte welkom bij deze dienst in de kerk. \nDaarnaast wordt de dienst ook LIVE uitgezonden.\nDe uitzending begint ongeveer om 18:45\, de dienst zelf begint om 19:00. \nDe uitzendingen zijn te bekijken via  Kerkdienstgemist.nl\, Kerkomroep.nl en via ons eigen  Youtube kanaal \n– Voorganger: ds. Arend-Wim Estié\n– Ouderling van dienst: Jan-Hein Nijhof\n– Muzikale begeleiding: Jurriena Dijkema\n– Koster: Bert van Veen\n– Collecte: 1. Diaconie 2. Kerk\n– Liturgische kleur: Groen\n– Beamer: Wim Noorlander\n– Video: Eddy Bakker \n  \nLiturgie 02-06-2024 19.00
URL:https://www.gk-voorthuizen.nl/agenda-item/avonddienst-leer-23/
END:VEVENT
BEGIN:VEVENT
DTSTART;TZID=Europe/Amsterdam:20240602T093000
DTEND;TZID=Europe/Amsterdam:20240602T103000
DTSTAMP:20260420T163136
CREATED:20240129T142916Z
LAST-MODIFIED:20240530T142725Z
UID:38508-1717320600-1717324200@www.gk-voorthuizen.nl
SUMMARY:Ochtenddienst
DESCRIPTION:U bent van harte welkom bij deze dienst in de kerk. \nDaarnaast wordt de dienst ook LIVE uitgezonden.\nDe uitzending begint ongeveer om 09:15\, de dienst zelf begint om 09:30. \nDe uitzendingen zijn te bekijken via  Kerkdienstgemist.nl\, Kerkomroep.nl en via ons eigen  Youtube kanaal \n– Voorganger: ds. Arend-Wim Estié\n– Ouderling van dienst: Jan-Hein Nijhof\n– Welkomstteam: Otto van Middendorp en Alie van Middendorp\n– Muzikale begeleiding: Evert van de Veen\n– Koster: Bert van Veen\n– KND: Groep 1/2\, Groep 3/4/5 en Groep 6/7/8\n– Collecte: 1. Diaconie 2. Kerk\n– Autodienst: Bauke van de Ploeg\, 06 – 22 96 53 83\n– Liturgische kleur: Groen\n– Beamer: Nieko Versteeg\n– Video: Eddy Bakker \n  \nLiturgie 02-06-2024 09.30
URL:https://www.gk-voorthuizen.nl/agenda-item/ochtenddienst-69/
END:VEVENT
BEGIN:VEVENT
DTSTART;TZID=Europe/Amsterdam:20240531T220000
DTEND;TZID=Europe/Amsterdam:20240601T060000
DTSTAMP:20260420T163136
CREATED:20240521T165807Z
LAST-MODIFIED:20240521T165807Z
UID:39043-1717192800-1717221600@www.gk-voorthuizen.nl
SUMMARY:Nacht van Gebed
DESCRIPTION:Landelijke nacht van gebed voor de vervolgde kerk. \nBid jij ook mee? Welkom in Bethabara\, van vrijdagavond 22.00 tot zaterdagochtend 06.00 uur.\nJe kunt er ook voor kiezen om een uurtje of een paar uur te komen meebidden.
URL:https://www.gk-voorthuizen.nl/agenda-item/nacht-van-gebed/
END:VEVENT
BEGIN:VEVENT
DTSTART;TZID=Europe/Amsterdam:20240529T143000
DTEND;TZID=Europe/Amsterdam:20240529T163000
DTSTAMP:20260420T163136
CREATED:20240529T062939Z
LAST-MODIFIED:20240529T062939Z
UID:39064-1716993000-1717000200@www.gk-voorthuizen.nl
SUMMARY:Inloophuis De Ontmoeting
DESCRIPTION:met spelletjes\, creatieve activiteiten en samen fietsen
URL:https://www.gk-voorthuizen.nl/agenda-item/inloophuis-de-ontmoeting-16/
END:VEVENT
BEGIN:VEVENT
DTSTART;TZID=Europe/Amsterdam:20240526T113000
DTEND;TZID=Europe/Amsterdam:20240526T123000
DTSTAMP:20260420T163136
CREATED:20240522T124805Z
LAST-MODIFIED:20240523T163233Z
UID:39047-1716723000-1716726600@www.gk-voorthuizen.nl
SUMMARY:Tweede morgendienst - VIER!
DESCRIPTION:Je bent van harte welkom bij Vier. Daarnaast wordt de dienst ook uitgezonden via  Kerkdienstgemist.nl\, Kerkomroep.nl en via Youtube.\nOver Vier lees je alles op vierdezondag.nl. \n – Voorganger: Ds. Arjan Berensen\n– Ouderling van dienst: Hiska Klein Hofmeijer-Roskam\n– Welkomstteam: Remco van der Geest en Yvette van der Geest\n– Muzikale begeleiding: Generation Praise uit Huizen\n– Koster: Ruben Kalkman\n– Vier Kids: Groep 1 tm/ 6\n– Collecte: 1. Landelijk missionair werk 2. VIER!\n– Beamer: Patrick Schuiteman\n– Video: Hein van de Veen \n  \nLiturgie 26-05-2024 11.30
URL:https://www.gk-voorthuizen.nl/agenda-item/tweede-morgendienst-vier-23/
END:VEVENT
BEGIN:VEVENT
DTSTART;TZID=Europe/Amsterdam:20240526T093000
DTEND;TZID=Europe/Amsterdam:20240526T103000
DTSTAMP:20260420T163136
CREATED:20240329T074641Z
LAST-MODIFIED:20240523T162353Z
UID:38844-1716715800-1716719400@www.gk-voorthuizen.nl
SUMMARY:Ochtenddienst
DESCRIPTION:U bent van harte welkom bij deze dienst in de kerk. \nDaarnaast wordt de dienst ook LIVE uitgezonden.\nDe uitzending begint ongeveer om 09:15\, de dienst zelf begint om 09:30. \nDe uitzendingen zijn te bekijken via  Kerkdienstgemist.nl\, Kerkomroep.nl en via ons eigen  Youtube kanaal \n– Voorganger: ds. Arend-Wim Estié\n– Ouderling van dienst: Ben Taken\n– Welkomstteam: Henk Lokhorst en Rina Lokhorst\n– Muzikale begeleiding: Geurt Albert Buitenhuis  – Koster: Ruben Kalkman\n– KND:\n– Collecte: 1. Missionair werk PKN 2. Kerk\n– Autodienst: Peter van de Kamp\, 06 – 46 18 75 06\n– Liturgische kleur: Groen\n– Beamer: Patrick Schuiteman\n– Video: Hein van de Veen \n  \nLiturgie 26-05-2024 09.30
URL:https://www.gk-voorthuizen.nl/agenda-item/ochtenddienst-67/
END:VEVENT
BEGIN:VEVENT
DTSTART;TZID=Europe/Amsterdam:20240522T143000
DTEND;TZID=Europe/Amsterdam:20240522T163000
DTSTAMP:20260420T163136
CREATED:20240403T131404Z
LAST-MODIFIED:20240403T131404Z
UID:38921-1716388200-1716395400@www.gk-voorthuizen.nl
SUMMARY:Inloophuis De Ontmoeting
DESCRIPTION:met spelletjes\, creatieve activiteiten en samen fietsen
URL:https://www.gk-voorthuizen.nl/agenda-item/inloophuis-de-ontmoeting-15/
END:VEVENT
BEGIN:VEVENT
DTSTART;TZID=Europe/Amsterdam:20240521T184500
DTEND;TZID=Europe/Amsterdam:20240521T194500
DTSTAMP:20260420T163136
CREATED:20240417T140707Z
LAST-MODIFIED:20240417T140707Z
UID:38957-1716317100-1716320700@www.gk-voorthuizen.nl
SUMMARY:Samen bidden voor
DESCRIPTION:
URL:https://www.gk-voorthuizen.nl/agenda-item/samen-bidden-voor/
END:VEVENT
BEGIN:VEVENT
DTSTART;TZID=Europe/Amsterdam:20240519T190000
DTEND;TZID=Europe/Amsterdam:20240519T200000
DTSTAMP:20260420T163136
CREATED:20240508T171655Z
LAST-MODIFIED:20240517T115127Z
UID:39020-1716145200-1716148800@www.gk-voorthuizen.nl
SUMMARY:Avonddienst - ZING!
DESCRIPTION:U bent van harte welkom bij deze dienst in de kerk. \nDaarnaast wordt de dienst ook LIVE uitgezonden.\nDe uitzending begint ongeveer om 18:45\, de dienst zelf begint om 19:00. \nDe uitzendingen zijn te bekijken via  Kerkdienstgemist.nl\, Kerkomroep.nl en via ons eigen  Youtube kanaal \n– Voorganger: ds. P. Dekker – Wierden\n– Ouderling van dienst: Erwin Kruitbosch\n– Orgel en Vleugel: Geurt Albert Buitenhuis Gospelkoor Say Yes– Koster: Bert Franken\n– Collecte: 1. Zending in Banladesh 2. ZING!\n– Liturgische kleur: Wit\n– Beamer: Nieko Versteeg\n– Video: Robin Bouwman \n  \nLiturgie 19-05-2024 19.00
URL:https://www.gk-voorthuizen.nl/agenda-item/avonddienst-zing-35/
END:VEVENT
BEGIN:VEVENT
DTSTART;TZID=Europe/Amsterdam:20240519T093000
DTEND;TZID=Europe/Amsterdam:20240519T103000
DTSTAMP:20260420T163136
CREATED:20240420T172538Z
LAST-MODIFIED:20240518T192257Z
UID:38993-1716111000-1716114600@www.gk-voorthuizen.nl
SUMMARY:Ochtenddienst - Pinksteren en bevestiging ambtsdragers/taakdragers
DESCRIPTION:U bent van harte welkom bij deze dienst in de kerk. \nDaarnaast wordt de dienst ook LIVE uitgezonden. De uitzending begint ongeveer om 09:15\, de dienst zelf begint om 09:30. \nDe uitzendingen zijn te bekijken via  Kerkdienstgemist.nl\, Kerkomroep.nl en via ons eigen  Youtube kanaal \n– Voorganger: ds. Arend-Wim Estié – Ouderling van dienst: Johan Borren – Welkomstteam: Inge Kruitbosch en Gerda Kruitbosch– Orgel en vleugel: Evert van de Veen en Hein van de Veen – Muzikale begeleiding: Muziekgroep kerk – Koster: Eelko van Malestijn – KND: Groep 1/2 en Groep 3/4/5  – Collecte: 1. Zending in Banladesh 2. ZING! – Autodienst: Geurt Buurman\, 06 274 512 99 – Liturgische kleur: Wit – Beamer: Nieko Versteeg – Video: Robin Bouwman
URL:https://www.gk-voorthuizen.nl/agenda-item/ochtenddienst-pinksteren-en-bevestiging-ambtsdragers-taakdragers-1/
END:VEVENT
BEGIN:VEVENT
DTSTART;TZID=Europe/Amsterdam:20240515T193000
DTEND;TZID=Europe/Amsterdam:20240515T193000
DTSTAMP:20260420T163136
CREATED:20240426T123406Z
LAST-MODIFIED:20240426T123406Z
UID:38996-1715801400-1715801400@www.gk-voorthuizen.nl
SUMMARY:Gemeentevergadering
DESCRIPTION:Notulen\, Plaatselijke Regeling en financiële stukken op te vragen via scriba@gk-voorthuizen.nl \nOpmerkingen of vragen over notulen\, PR en financiën vooraf via scriba@gk-voorthuizen.nl
URL:https://www.gk-voorthuizen.nl/agenda-item/gemeentevergadering-2/
END:VEVENT
BEGIN:VEVENT
DTSTART;TZID=Europe/Amsterdam:20240515T143000
DTEND;TZID=Europe/Amsterdam:20240515T163000
DTSTAMP:20260420T163136
CREATED:20240403T131151Z
LAST-MODIFIED:20240403T131151Z
UID:38919-1715783400-1715790600@www.gk-voorthuizen.nl
SUMMARY:Inloophuis De Ontmoeting
DESCRIPTION:met spelletjes\, creatieve activiteiten en samen fietsen
URL:https://www.gk-voorthuizen.nl/agenda-item/inloophuis-de-ontmoeting-14/
END:VEVENT
BEGIN:VEVENT
DTSTART;TZID=Europe/Amsterdam:20240514T093000
DTEND;TZID=Europe/Amsterdam:20240514T120000
DTSTAMP:20260420T163136
CREATED:20240122T145848Z
LAST-MODIFIED:20240122T145848Z
UID:38213-1715679000-1715688000@www.gk-voorthuizen.nl
SUMMARY:Open morgen voor vrouwen
DESCRIPTION:
URL:https://www.gk-voorthuizen.nl/agenda-item/open-morgen-voor-vrouwen-33/
END:VEVENT
BEGIN:VEVENT
DTSTART;TZID=Europe/Amsterdam:20240512T190000
DTEND;TZID=Europe/Amsterdam:20240512T200000
DTSTAMP:20260420T163136
CREATED:20240420T115447Z
LAST-MODIFIED:20240510T103121Z
UID:38992-1715540400-1715544000@www.gk-voorthuizen.nl
SUMMARY:Avonddienst - HOOR!
DESCRIPTION:U bent van harte welkom bij deze dienst in de kerk. \nDaarnaast wordt de dienst ook LIVE uitgezonden.\nDe uitzending begint ongeveer om 18:45\, de dienst zelf begint om 19:00. \nDe uitzendingen zijn te bekijken via  Kerkdienstgemist.nl\, Kerkomroep.nl en via ons eigen  Youtube kanaal \n– Voorganger: ds. J. Zondag – Dedemsvaart\n– Ouderling van dienst: Ben Taken\n– Orgel en Vleugel: Jurriena Dijkema  – Koster: Yari Bakker\n– Collecte: 1. DIaconie 2. Kerk\n– Liturgische kleur: Groen\n– Beamer: Gerrit Coes\n– Video: Henk Stoter \n  \nLiturgie 12-05-2024 19.00
URL:https://www.gk-voorthuizen.nl/agenda-item/avonddienst-hoor-32/
END:VEVENT
BEGIN:VEVENT
DTSTART;TZID=Europe/Amsterdam:20240512T093000
DTEND;TZID=Europe/Amsterdam:20240512T103000
DTSTAMP:20260420T163136
CREATED:20240420T115358Z
LAST-MODIFIED:20240510T103034Z
UID:38991-1715506200-1715509800@www.gk-voorthuizen.nl
SUMMARY:Ochtenddienst
DESCRIPTION:U bent van harte welkom bij deze dienst in de kerk. \nDaarnaast wordt de dienst ook LIVE uitgezonden.\nDe uitzending begint ongeveer om 09:15\, de dienst zelf begint om 09:30. \nDe uitzendingen zijn te bekijken via  Kerkdienstgemist.nl\, Kerkomroep.nl en via ons eigen  Youtube kanaal \n– Voorganger: ds. Arend-Wim Estié\n– Ouderling van dienst: Ben Taken\n– Welkomstteam: Bea Hendriksen en Hennie van Ramshorst\n– Orgel en vleugel: Evert van de Veen  – Koster: Yari Bakker\n– KND: Groep 1/2\, Groep 3/4/5 en Groep 6/7/8\n– Collecte: 1. Diaconie 2. Kerk\n– Autodienst: Henk van Hierden\, 06 – 13 89 17 15\n– Liturgische kleur: Wit\n– Beamer: Gerrit Coes\n– Video: Henk Stoter \n  \nLiturgie 12-05-2024 09.30
URL:https://www.gk-voorthuizen.nl/agenda-item/ochtenddienst-66/
END:VEVENT
BEGIN:VEVENT
DTSTART;TZID=Europe/Amsterdam:20240509T093000
DTEND;TZID=Europe/Amsterdam:20240509T103000
DTSTAMP:20260420T163136
CREATED:20240420T115321Z
LAST-MODIFIED:20240507T191915Z
UID:38990-1715247000-1715250600@www.gk-voorthuizen.nl
SUMMARY:Hemelvaartsdienst
DESCRIPTION:U bent van harte welkom bij deze dienst in de kerk. \nDaarnaast wordt de dienst ook LIVE uitgezonden.\nDe uitzending begint ongeveer om 09:15\, de dienst zelf begint om 09:30. \nDe uitzendingen zijn te bekijken via  Kerkdienstgemist.nl\, Kerkomroep.nl en via ons eigen  Youtube kanaal \n– Voorganger: Ds. Arjan Berensen\n– Ouderling van dienst: Janko van der Vlist\n– Welkomstteam:\n– Orgel en Vleugel: Evert van de Veen  – Koster: Wiebe Goodijk\n– KND:\n– Collecte: 1. Diaconie 2. Kerk\n– Autodienst: Jan Laanstra\, 06 – 22 39 69 14\n– Liturgische kleur: Wit\n– Beamer: Patrick Schuiteman\n– Video: Hein van de Veen \n  \nLiturgie 09-05-2024 09.30
URL:https://www.gk-voorthuizen.nl/agenda-item/hemelvaartsdienst-1/
END:VEVENT
BEGIN:VEVENT
DTSTART;TZID=Europe/Amsterdam:20240508T143000
DTEND;TZID=Europe/Amsterdam:20240508T163000
DTSTAMP:20260420T163136
CREATED:20240403T131116Z
LAST-MODIFIED:20240403T131116Z
UID:38917-1715178600-1715185800@www.gk-voorthuizen.nl
SUMMARY:Inloophuis De Ontmoeting
DESCRIPTION:met spelletjes\, creatieve activiteiten en samen fietsen
URL:https://www.gk-voorthuizen.nl/agenda-item/inloophuis-de-ontmoeting-13/
END:VEVENT
BEGIN:VEVENT
DTSTART;TZID=Europe/Amsterdam:20240505T190000
DTEND;TZID=Europe/Amsterdam:20240505T200000
DTSTAMP:20260420T163136
CREATED:20240420T115047Z
LAST-MODIFIED:20240502T195346Z
UID:38989-1714935600-1714939200@www.gk-voorthuizen.nl
SUMMARY:Avonddienst - ZING!
DESCRIPTION:U en jij bent van harte welkom bij deze dienst in de kerk. \nDaarnaast wordt de dienst ook LIVE uitgezonden.\nDe uitzending begint ongeveer om 18:45\, de dienst zelf begint om 19:00. \nDe uitzendingen zijn te bekijken via  Kerkdienstgemist.nl\, Kerkomroep.nl en via ons eigen  Youtube kanaal \n– Voorganger: Ds. Arjan Berensen\n– Thema: Kleed van de bevrijding (n.a.v. Jesaja 61:10m)\n– Ouderling van dienst: Henry Bouw\n– Orgel en Vleugel: Evert van de Veen en Hein van de Veen  – Koster: Bert van Veen\n– Collecte: 1. Perron 16 2. Kerk\n– Liturgische kleur: Wit\n– Beamer: Evert Hendriksen\n– Video: Robin Bouwman \n  \nLiturgie 05-05-2024 19.00
URL:https://www.gk-voorthuizen.nl/agenda-item/avonddienst-zing-41/
END:VEVENT
BEGIN:VEVENT
DTSTART;TZID=Europe/Amsterdam:20240505T093000
DTEND;TZID=Europe/Amsterdam:20240505T103000
DTSTAMP:20260420T163136
CREATED:20240420T114445Z
LAST-MODIFIED:20240502T195146Z
UID:38988-1714901400-1714905000@www.gk-voorthuizen.nl
SUMMARY:Ochtenddienst
DESCRIPTION:U bent van harte welkom bij deze dienst in de kerk. \nDaarnaast wordt de dienst ook LIVE uitgezonden.\nDe uitzending begint ongeveer om 09:15\, de dienst zelf begint om 09:30. \nDe uitzendingen zijn te bekijken via  Kerkdienstgemist.nl\, Kerkomroep.nl en via ons eigen  Youtube kanaal \n– Voorganger: drs. Gerrit Westerlaken\n– Ouderling van dienst: Beatrix Tobori\n– Welkomstteam: Alette Coes en Greet Keizerwaard\n– orgel en vleugel: Hein van de Veen  – Koster: Bert van Veen\n– KND: Groep 1/2 en Groep 3/4/5\n– Collecte: 1. Perron 16 2. Kerk\n– Autodienst: Henk Bossenbroek\, 06 250 662 49\n– Liturgische kleur: Wit\n– Beamer: Evert Hendriksen\n– Video: Robin Bouwman \n  \nLiturgie 05-05-2024 09.30
URL:https://www.gk-voorthuizen.nl/agenda-item/ochtenddienst-65/
END:VEVENT
BEGIN:VEVENT
DTSTART;TZID=Europe/Amsterdam:20240503T150000
DTEND;TZID=Europe/Amsterdam:20240503T160000
DTSTAMP:20260420T163136
CREATED:20240212T074509Z
LAST-MODIFIED:20240318T210945Z
UID:38692-1714748400-1714752000@www.gk-voorthuizen.nl
SUMMARY:huwelijksbevestiging
DESCRIPTION:Bevestiging van het huwelijk van Danny Geurtsen en Leonie Verhoef.
URL:https://www.gk-voorthuizen.nl/agenda-item/huwelijksbevestiging-1/
END:VEVENT
BEGIN:VEVENT
DTSTART;TZID=Europe/Amsterdam:20240501T143000
DTEND;TZID=Europe/Amsterdam:20240501T163000
DTSTAMP:20260420T163136
CREATED:20240403T131021Z
LAST-MODIFIED:20240403T131021Z
UID:38915-1714573800-1714581000@www.gk-voorthuizen.nl
SUMMARY:Inloophuis De Ontmoeting
DESCRIPTION:met spelletjes\, creatieve activiteiten en samen fietsen
URL:https://www.gk-voorthuizen.nl/agenda-item/inloophuis-de-ontmoeting-12/
END:VEVENT
BEGIN:VEVENT
DTSTART;TZID=Europe/Amsterdam:20240430T093000
DTEND;TZID=Europe/Amsterdam:20240430T120000
DTSTAMP:20260420T163136
CREATED:20240122T145813Z
LAST-MODIFIED:20240122T145813Z
UID:38211-1714469400-1714478400@www.gk-voorthuizen.nl
SUMMARY:Open morgen voor vrouwen
DESCRIPTION:
URL:https://www.gk-voorthuizen.nl/agenda-item/open-morgen-voor-vrouwen-32/
END:VEVENT
BEGIN:VEVENT
DTSTART;TZID=Europe/Amsterdam:20240428T113000
DTEND;TZID=Europe/Amsterdam:20240428T123000
DTSTAMP:20260420T163136
CREATED:20240418T090141Z
LAST-MODIFIED:20240426T125019Z
UID:38975-1714303800-1714307400@www.gk-voorthuizen.nl
SUMMARY:Tweede morgendienst - VIER!
DESCRIPTION:Voorganger: ds. Arjan Berensen\nBegeleiding: Muziekteam VIER! \n  \nLiturgie 28-04-2024 11.30
URL:https://www.gk-voorthuizen.nl/agenda-item/tweede-morgendienst-vier-22/
END:VEVENT
BEGIN:VEVENT
DTSTART;TZID=Europe/Amsterdam:20240428T093000
DTEND;TZID=Europe/Amsterdam:20240428T103000
DTSTAMP:20260420T163136
CREATED:20240329T074411Z
LAST-MODIFIED:20240426T124833Z
UID:38836-1714296600-1714300200@www.gk-voorthuizen.nl
SUMMARY:Ochtenddienst
DESCRIPTION:U bent van harte welkom bij deze dienst in de kerk. \nDaarnaast wordt de dienst ook LIVE uitgezonden.\nDe uitzending begint ongeveer om 09:15\, de dienst zelf begint om 09:30. \nDe uitzendingen zijn te bekijken via  Kerkdienstgemist.nl\, Kerkomroep.nl en via ons eigen  Youtube kanaal \n– Voorganger: Marcelle van Schoonhoven\n– Ouderling van dienst: Erwin Kruitbosch\n– Welkomstteam: Joke Pot en Bea Hendriksen\n– Muzikale begeleiding: Geurt Albert Buitenhuis  – Koster: Bert Franken\n– KND:\n– Collecte: 1. Diaconie 2. Kerk\n– Autodienst: Gerard van de Pol\, 06 – 30 91 39 96\n– Liturgische kleur: Wit\n– Beamer: Nieko Versteeg\n– Video: Eddy Bakker \n  \nLiturgie 28-04-2024 09.30 \n 
URL:https://www.gk-voorthuizen.nl/agenda-item/ochtenddienst-64/
END:VEVENT
END:VCALENDAR