BEGIN:VCALENDAR
VERSION:2.0
PRODID:-//Gereformeerde Kerk Voorthuizen - ECPv6.2.6.1//NONSGML v1.0//EN
CALSCALE:GREGORIAN
METHOD:PUBLISH
X-WR-CALNAME:Gereformeerde Kerk Voorthuizen
X-ORIGINAL-URL:https://www.gk-voorthuizen.nl
X-WR-CALDESC:Evenementen voor Gereformeerde Kerk Voorthuizen
REFRESH-INTERVAL;VALUE=DURATION:PT1H
X-Robots-Tag:noindex
X-PUBLISHED-TTL:PT1H
BEGIN:VTIMEZONE
TZID:Europe/Amsterdam
BEGIN:DAYLIGHT
TZOFFSETFROM:+0100
TZOFFSETTO:+0200
TZNAME:CEST
DTSTART:20240331T010000
END:DAYLIGHT
BEGIN:STANDARD
TZOFFSETFROM:+0200
TZOFFSETTO:+0100
TZNAME:CET
DTSTART:20241027T010000
END:STANDARD
END:VTIMEZONE
BEGIN:VEVENT
DTSTART;TZID=Europe/Amsterdam:20240419T133000
DTEND;TZID=Europe/Amsterdam:20240421T170000
DTSTAMP:20260421T224928
CREATED:20240415T115410Z
LAST-MODIFIED:20240415T115445Z
UID:38947-1713533400-1713718800@www.gk-voorthuizen.nl
SUMMARY:Kamp 10'r klup
DESCRIPTION:‘t Frusselt 30 te Vierhouten
URL:https://www.gk-voorthuizen.nl/agenda-item/kamp-10r-klup/
END:VEVENT
BEGIN:VEVENT
DTSTART;TZID=Europe/Amsterdam:20240417T143000
DTEND;TZID=Europe/Amsterdam:20240417T163000
DTSTAMP:20260421T224928
CREATED:20240205T135204Z
LAST-MODIFIED:20240205T135204Z
UID:38592-1713364200-1713371400@www.gk-voorthuizen.nl
SUMMARY:Inloophuis De Ontmoeting
DESCRIPTION:met spelletjes\, creatieve activiteiten en samen fietsen
URL:https://www.gk-voorthuizen.nl/agenda-item/inloophuis-de-ontmoeting-10/
END:VEVENT
BEGIN:VEVENT
DTSTART;TZID=Europe/Amsterdam:20240416T193000
DTEND;TZID=Europe/Amsterdam:20240416T193000
DTSTAMP:20260421T224928
CREATED:20240411T195123Z
LAST-MODIFIED:20240411T195123Z
UID:38938-1713295800-1713295800@www.gk-voorthuizen.nl
SUMMARY:Bijeenkomst "Koninkrijk aan de keukentafel"
DESCRIPTION:interactie bijeenkomst inhoud jeugdwerk. locatie: zalen achter de kerk
URL:https://www.gk-voorthuizen.nl/agenda-item/bijeenkomst-koninkrijk-aan-de-keukentafel-2/
END:VEVENT
BEGIN:VEVENT
DTSTART;TZID=Europe/Amsterdam:20240416T093000
DTEND;TZID=Europe/Amsterdam:20240416T120000
DTSTAMP:20260421T224928
CREATED:20240122T145744Z
LAST-MODIFIED:20240122T145744Z
UID:38209-1713259800-1713268800@www.gk-voorthuizen.nl
SUMMARY:Open morgen voor vrouwen
DESCRIPTION:
URL:https://www.gk-voorthuizen.nl/agenda-item/open-morgen-voor-vrouwen-31/
END:VEVENT
BEGIN:VEVENT
DTSTART;TZID=Europe/Amsterdam:20240414T190000
DTEND;TZID=Europe/Amsterdam:20240414T200000
DTSTAMP:20260421T224928
CREATED:20240329T074330Z
LAST-MODIFIED:20240411T195858Z
UID:38833-1713121200-1713124800@www.gk-voorthuizen.nl
SUMMARY:Avonddienst - LEER!
DESCRIPTION:U bent van harte welkom bij deze dienst in de kerk. \nDaarnaast wordt de dienst ook LIVE uitgezonden.\nDe uitzending begint ongeveer om 18:45\, de dienst zelf begint om 19:00. \nDe uitzendingen zijn te bekijken via  Kerkdienstgemist.nl\, Kerkomroep.nl en via ons eigen  Youtube kanaal \n– Voorganger: ds. Arend-Wim Estié\n– Ouderling van dienst: Jan-Hein Nijhof\n– Muzikale begeleiding: Geurt Albert Buitenhuis  – Koster: Eelko van Malestijn\n– Collecte: 1. Plaatselijk jeugdwerk 2. Kerk\n– Liturgische kleur: Wit\n– Beamer: Evert Hendriksen\n– Video: Jan Keizerwaard \n  \nLiturgie 14-04-2024 19.00
URL:https://www.gk-voorthuizen.nl/agenda-item/avonddienst-leer-22/
END:VEVENT
BEGIN:VEVENT
DTSTART;TZID=Europe/Amsterdam:20240414T103000
DTEND;TZID=Europe/Amsterdam:20240414T103000
DTSTAMP:20260421T224928
CREATED:20240411T195317Z
LAST-MODIFIED:20240411T195317Z
UID:38940-1713090600-1713090600@www.gk-voorthuizen.nl
SUMMARY:Bijeenkomst "Koninkrijk aan de keukentafel"
DESCRIPTION:interactie bijeenkomst inhoud jeugdwerk. locatie: zalen achter de kerk
URL:https://www.gk-voorthuizen.nl/agenda-item/bijeenkomst-koninkrijk-aan-de-keukentafel-3/
END:VEVENT
BEGIN:VEVENT
DTSTART;TZID=Europe/Amsterdam:20240414T093000
DTEND;TZID=Europe/Amsterdam:20240414T103000
DTSTAMP:20260421T224928
CREATED:20240329T074317Z
LAST-MODIFIED:20240411T195757Z
UID:38832-1713087000-1713090600@www.gk-voorthuizen.nl
SUMMARY:Ochtenddienst
DESCRIPTION:U bent van harte welkom bij deze dienst in de kerk. \nDaarnaast wordt de dienst ook LIVE uitgezonden.\nDe uitzending begint ongeveer om 09:15\, de dienst zelf begint om 09:30. \nDe uitzendingen zijn te bekijken via  Kerkdienstgemist.nl\, Kerkomroep.nl en via ons eigen  Youtube kanaal \n– Voorganger: ds. Arend-Wim Estié\n– Ouderling van dienst: Mieke Kalkman\n– Welkomstteam: Inge Kruitbosch en Gerda Kruitbosch\n– Muzikale begeleiding: Jurriena Dijkema  – Koster: Eelko van Malestijn\n– KND: Groep 1/2\, Groep 3/4/5 en Groep 6/7/8\n– Collecte: 1. Plaatselijk jeugdwerk 2. Kerk\n– Autodienst: René Kerbel\, 06 558 002 57\n– Liturgische kleur: Wit\n– Beamer: Evert Hendriksen\n– Video: Jan Keizerwaard \n  \nLiturgie 14-04-2024 09.30
URL:https://www.gk-voorthuizen.nl/agenda-item/ochtenddienst-62/
END:VEVENT
BEGIN:VEVENT
DTSTART;TZID=Europe/Amsterdam:20240412T140000
DTEND;TZID=Europe/Amsterdam:20240414T000000
DTSTAMP:20260421T224928
CREATED:20240122T144708Z
LAST-MODIFIED:20240122T144708Z
UID:38193-1712930400-1713052800@www.gk-voorthuizen.nl
SUMMARY:Clubkamp groep 6\, 7 en 8
DESCRIPTION:
URL:https://www.gk-voorthuizen.nl/agenda-item/clubkamp-groep-6-7-en-8/
END:VEVENT
BEGIN:VEVENT
DTSTART;TZID=Europe/Amsterdam:20240410T143000
DTEND;TZID=Europe/Amsterdam:20240410T163000
DTSTAMP:20260421T224928
CREATED:20240205T135125Z
LAST-MODIFIED:20240205T135125Z
UID:38590-1712759400-1712766600@www.gk-voorthuizen.nl
SUMMARY:Inloophuis De Ontmoeting
DESCRIPTION:met spelletjes\, creatieve activiteiten en samen fietsen
URL:https://www.gk-voorthuizen.nl/agenda-item/inloophuis-de-ontmoeting-9/
END:VEVENT
BEGIN:VEVENT
DTSTART;TZID=Europe/Amsterdam:20240408T190000
DTEND;TZID=Europe/Amsterdam:20240408T190000
DTSTAMP:20260421T224928
CREATED:20240312T141242Z
LAST-MODIFIED:20240312T141242Z
UID:38792-1712602800-1712602800@www.gk-voorthuizen.nl
SUMMARY:Slotavond aangepaste catechese
DESCRIPTION:In de Goede Herderkerk in Barneveld
URL:https://www.gk-voorthuizen.nl/agenda-item/slotavond-aangepaste-catechese-2/
END:VEVENT
BEGIN:VEVENT
DTSTART;TZID=Europe/Amsterdam:20240407T201500
DTEND;TZID=Europe/Amsterdam:20240407T220000
DTSTAMP:20260421T224928
CREATED:20240317T120617Z
LAST-MODIFIED:20240317T131617Z
UID:38803-1712520900-1712527200@www.gk-voorthuizen.nl
SUMMARY:Jongerenkring - Geloof vormgeven
DESCRIPTION:
URL:https://www.gk-voorthuizen.nl/agenda-item/jongerenkring-geloof-vormgeven-1/
END:VEVENT
BEGIN:VEVENT
DTSTART;TZID=Europe/Amsterdam:20240407T190000
DTEND;TZID=Europe/Amsterdam:20240407T200000
DTSTAMP:20260421T224928
CREATED:20240329T074300Z
LAST-MODIFIED:20240405T113235Z
UID:38831-1712516400-1712520000@www.gk-voorthuizen.nl
SUMMARY:Avonddienst
DESCRIPTION:U bent van harte welkom bij deze dienst in de kerk. \nDaarnaast wordt de dienst ook LIVE uitgezonden.\nDe uitzending begint ongeveer om 18:45\, de dienst zelf begint om 19:00. \nDe uitzendingen zijn te bekijken via  Kerkdienstgemist.nl\, Kerkomroep.nl en via ons eigen  Youtube kanaal \n– Voorganger: Ds. Arjan Berensen\n– Ouderling van dienst: Jan-Hein Nijhof\n– Muzikale begeleiding: Evert van de Veen  – Koster: Yari Bakker\n– Collecte: 1. Diaconie 2. Kerk\n– Liturgische kleur: Wit\n– Beamer: Patrick Schuiteman\n– Video: Henk Stoter \n  \nLiturgie 07-04-2024 19.00
URL:https://www.gk-voorthuizen.nl/agenda-item/avonddienst-14/
END:VEVENT
BEGIN:VEVENT
DTSTART;TZID=Europe/Amsterdam:20240407T164500
DTEND;TZID=Europe/Amsterdam:20240407T164500
DTSTAMP:20260421T224928
CREATED:20240312T141124Z
LAST-MODIFIED:20240312T141124Z
UID:38790-1712508300-1712508300@www.gk-voorthuizen.nl
SUMMARY:Slotdienst aangepaste catechese
DESCRIPTION:Slotdienst in de Goede Herderkerk in Barneveld
URL:https://www.gk-voorthuizen.nl/agenda-item/slotdienst-aangepaste-catechese/
END:VEVENT
BEGIN:VEVENT
DTSTART;TZID=Europe/Amsterdam:20240407T093000
DTEND;TZID=Europe/Amsterdam:20240407T103000
DTSTAMP:20260421T224928
CREATED:20240329T074249Z
LAST-MODIFIED:20240405T113136Z
UID:38830-1712482200-1712485800@www.gk-voorthuizen.nl
SUMMARY:Doopdienst Nine Hooijer
DESCRIPTION:U bent van harte welkom bij deze dienst in de kerk. \nDaarnaast wordt de dienst ook LIVE uitgezonden.\nDe uitzending begint ongeveer om 09:15\, de dienst zelf begint om 09:30. \nDe uitzendingen zijn te bekijken via  Kerkdienstgemist.nl\, Kerkomroep.nl en via ons eigen  Youtube kanaal \n– Voorganger: Ds. Arjan Berensen\n– Ouderling van dienst: Gert-Jan van de Kuilen\n– Welkomstteam: Otto van Middendorp en Alie van Middendorp\n– Muzikale begeleiding: Evert van de Veen Muziekgroep kerk – Koster: Yari Bakker\n– KND: Groep 1/2 en Groep 3/4/5\n– Collecte: 1. Diaconie 2. Kerk\n– Autodienst: Peter van de Kamp\, 06 – 46 18 75 06\n– Liturgische kleur: Wit\n– Beamer: Patrick Schuiteman\n– Video: Henk Stoter \n  \nLiturgie 07-04-2024 09.30
URL:https://www.gk-voorthuizen.nl/agenda-item/doopdienst-nine-hooijer-1/
END:VEVENT
BEGIN:VEVENT
DTSTART;TZID=Europe/Amsterdam:20240403T180000
DTEND;TZID=Europe/Amsterdam:20240403T200000
DTSTAMP:20260421T224928
CREATED:20231106T183545Z
LAST-MODIFIED:20240122T144225Z
UID:37143-1712167200-1712174400@www.gk-voorthuizen.nl
SUMMARY:Club groep 7\, Slotavond
DESCRIPTION:
URL:https://www.gk-voorthuizen.nl/agenda-item/club-meisjes-groep-7-en-club-meisjes-groep-8-slotavond/
END:VEVENT
BEGIN:VEVENT
DTSTART;TZID=Europe/Amsterdam:20240403T143000
DTEND;TZID=Europe/Amsterdam:20240403T163000
DTSTAMP:20260421T224928
CREATED:20240205T135046Z
LAST-MODIFIED:20240205T135046Z
UID:38588-1712154600-1712161800@www.gk-voorthuizen.nl
SUMMARY:Inloophuis De Ontmoeting
DESCRIPTION:met spelletjes\, creatieve activiteiten en samen fietsen
URL:https://www.gk-voorthuizen.nl/agenda-item/inloophuis-de-ontmoeting-8/
END:VEVENT
BEGIN:VEVENT
DTSTART;TZID=Europe/Amsterdam:20240402T180000
DTEND;TZID=Europe/Amsterdam:20240402T200000
DTSTAMP:20260421T224928
CREATED:20231106T183527Z
LAST-MODIFIED:20240122T144135Z
UID:37142-1712080800-1712088000@www.gk-voorthuizen.nl
SUMMARY:Club groep 6 en groep 8\, Slotavond
DESCRIPTION:
URL:https://www.gk-voorthuizen.nl/agenda-item/club-meisjes-groep-6-slotavond/
END:VEVENT
BEGIN:VEVENT
DTSTART;TZID=Europe/Amsterdam:20240402T093000
DTEND;TZID=Europe/Amsterdam:20240402T120000
DTSTAMP:20260421T224928
CREATED:20240122T145713Z
LAST-MODIFIED:20240122T145713Z
UID:38207-1712050200-1712059200@www.gk-voorthuizen.nl
SUMMARY:Open morgen voor vrouwen
DESCRIPTION:
URL:https://www.gk-voorthuizen.nl/agenda-item/open-morgen-voor-vrouwen-30/
END:VEVENT
BEGIN:VEVENT
DTSTART;TZID=Europe/Amsterdam:20240331T190000
DTEND;TZID=Europe/Amsterdam:20240331T200000
DTSTAMP:20260421T224928
CREATED:20240329T074236Z
LAST-MODIFIED:20240329T152731Z
UID:38829-1711911600-1711915200@www.gk-voorthuizen.nl
SUMMARY:Avonddienst - HOOR!
DESCRIPTION:U bent van harte welkom bij deze dienst in de kerk. \nDaarnaast wordt de dienst ook LIVE uitgezonden.\nDe uitzending begint ongeveer om 18:45\, de dienst zelf begint om 19:00. \nDe uitzendingen zijn te bekijken via  Kerkdienstgemist.nl\, Kerkomroep.nl en via ons eigen  Youtube kanaal \n– Voorganger: ds. A.H. van Veluw – IJsselmuiden\n– Ouderling van dienst: Beatrix Tobori\n– Muzikale begeleiding: Geurt Albert Buitenhuis  – Koster: Eelko van Malestijn\n– Collecte: 1. Missionaire gemeenteleden 2. Kerk\n– Liturgische kleur: Wit\n– Beamer: Patrick Schuiteman\n– Video: Eddy Bakker \n  \nLiturgie 31-03-2024 19.00 \n 
URL:https://www.gk-voorthuizen.nl/agenda-item/avonddienst-hoor-31/
END:VEVENT
BEGIN:VEVENT
DTSTART;TZID=Europe/Amsterdam:20240331T093000
DTEND;TZID=Europe/Amsterdam:20240331T103000
DTSTAMP:20260421T224928
CREATED:20240329T074223Z
LAST-MODIFIED:20240329T085226Z
UID:38828-1711877400-1711881000@www.gk-voorthuizen.nl
SUMMARY:Paasdienst
DESCRIPTION:U bent van harte welkom bij deze dienst in de kerk. \nDaarnaast wordt de dienst ook LIVE uitgezonden. De uitzending begint ongeveer om 09:15\, de dienst zelf begint om 09:30. \nDe uitzendingen zijn te bekijken via  Kerkdienstgemist.nl\, Kerkomroep.nl en via ons eigen  Youtube kanaal \n– Voorganger: Ds. Arjan Berensen – Ouderling van dienst: Henry Bouw – Welkomstteam: Gejonne van de Kamp- van De kraats en Albert van de Kamp– Muzikale begeleiding: Evert van de Veen  – Koster: Ruben Kalkman – KND: Groep 1/2\, Groep 3/4/5 en Groep 6/7/8  – Collecte: 1. Missionaire gemeenteleden 2. Kerk – Autodienst: Henk van Hierden\, 06 – 13 89 17 15 – Liturgische kleur: Wit – Beamer: Patrick Schuiteman – Video: Eddy Bakker
URL:https://www.gk-voorthuizen.nl/agenda-item/paasdienst-1/
END:VEVENT
BEGIN:VEVENT
DTSTART;TZID=Europe/Amsterdam:20240330T220000
DTEND;TZID=Europe/Amsterdam:20240330T230000
DTSTAMP:20260421T224928
CREATED:20240329T083843Z
LAST-MODIFIED:20240329T094843Z
UID:38855-1711836000-1711839600@www.gk-voorthuizen.nl
SUMMARY:Stille Zaterdag
DESCRIPTION:U bent van harte welkom bij deze dienst in de kerk. \nDaarnaast wordt de dienst ook LIVE uitgezonden. De uitzending begint ongeveer om 21:45\, de dienst zelf begint om 22:00. \nDe uitzendingen zijn te bekijken via  Kerkdienstgemist.nl\, Kerkomroep.nl en via ons eigen  Youtube kanaal \nThema: Stille Zaterdag \n– Voorganger: ds. Arend-Wim Estié – Ouderling van dienst: Johan Borren– Muzikale begeleiding: Jurriena Dijkema  – Koster: Bert van Veen – Collecte: 1.  2.  – Liturgische kleur:  – Beamer: Evert Hendriksen – Video: Robin Bouwman
URL:https://www.gk-voorthuizen.nl/agenda-item/stille-zaterdag-1/
END:VEVENT
BEGIN:VEVENT
DTSTART;TZID=Europe/Amsterdam:20240329T193000
DTEND;TZID=Europe/Amsterdam:20240329T203000
DTSTAMP:20260421T224928
CREATED:20240329T083604Z
LAST-MODIFIED:20240329T094606Z
UID:38851-1711740600-1711744200@www.gk-voorthuizen.nl
SUMMARY:Goede Vrijdag
DESCRIPTION:U bent van harte welkom bij deze dienst in de kerk. \nDaarnaast wordt de dienst ook LIVE uitgezonden. De uitzending begint ongeveer om 19:15\, de dienst zelf begint om 19:30. \nDe uitzendingen zijn te bekijken via  Kerkdienstgemist.nl\, Kerkomroep.nl en via ons eigen  Youtube kanaal \n– Voorganger: ds. Arend-Wim Estié – Ouderling van dienst: Mieke Kalkman– Muzikale begeleiding: Evert van de Veen Geeke Jansen en Hetty van Beek – Klarinet – Koster: Wiebe Goodijk – Collecte: 1.  2.  – Liturgische kleur: Paars – Beamer: Gerrit Coes – Video: Jan Keizerwaard \n 
URL:https://www.gk-voorthuizen.nl/agenda-item/goede-vrijdag-1/
END:VEVENT
BEGIN:VEVENT
DTSTART;TZID=Europe/Amsterdam:20240328T193000
DTEND;TZID=Europe/Amsterdam:20240328T203000
DTSTAMP:20260421T224928
CREATED:20240129T134922Z
LAST-MODIFIED:20240327T152245Z
UID:38466-1711654200-1711657800@www.gk-voorthuizen.nl
SUMMARY:Witte Donderdag
DESCRIPTION:U bent van harte welkom bij deze dienst in de kerk. \nDaarnaast wordt de dienst ook LIVE uitgezonden.\nDe uitzending begint ongeveer om 19:15\, de dienst zelf begint om 19:30. \nDe uitzendingen zijn te bekijken via  Kerkdienstgemist.nl\, Kerkomroep.nl en via ons eigen  Youtube kanaal \n– Voorganger: ds. Arend-Wim Estié\n– Ouderling van dienst: Erwin Kruitbosch\n– Muzikale begeleiding: Hein van de Veen\n– Koster: Eelko van Malestijn\n– Collecte: 1. DIaconie 2. Kerk\n– Liturgische kleur: Wit\n– Beamer: Nieko Versteeg\n– Video: Henk Stoter \n  \nLiturgie 28-03-2024 19.30 \n 
URL:https://www.gk-voorthuizen.nl/agenda-item/witte-donderdag-1/
END:VEVENT
BEGIN:VEVENT
DTSTART;TZID=Europe/Amsterdam:20240327T190000
DTEND;TZID=Europe/Amsterdam:20240327T200000
DTSTAMP:20260421T224928
CREATED:20231106T183508Z
LAST-MODIFIED:20240122T144038Z
UID:37136-1711566000-1711569600@www.gk-voorthuizen.nl
SUMMARY:Club groep 7
DESCRIPTION:
URL:https://www.gk-voorthuizen.nl/agenda-item/club-jongens-groep-7-slotavond/
END:VEVENT
BEGIN:VEVENT
DTSTART;TZID=Europe/Amsterdam:20240327T143000
DTEND;TZID=Europe/Amsterdam:20240327T163000
DTSTAMP:20260421T224928
CREATED:20240205T134814Z
LAST-MODIFIED:20240205T134814Z
UID:38585-1711549800-1711557000@www.gk-voorthuizen.nl
SUMMARY:Inloophuis De Ontmoeting
DESCRIPTION:met spelletjes\, creatieve activiteiten en samen fietsen
URL:https://www.gk-voorthuizen.nl/agenda-item/inloophuis-de-ontmoeting-7/
END:VEVENT
BEGIN:VEVENT
DTSTART;TZID=Europe/Amsterdam:20240326T190000
DTEND;TZID=Europe/Amsterdam:20240326T200000
DTSTAMP:20260421T224928
CREATED:20231106T183507Z
LAST-MODIFIED:20240122T143953Z
UID:37135-1711479600-1711483200@www.gk-voorthuizen.nl
SUMMARY:Club groep 6 en groep 8
DESCRIPTION:
URL:https://www.gk-voorthuizen.nl/agenda-item/cub-jongens-groep-8-slotavond/
END:VEVENT
BEGIN:VEVENT
DTSTART;TZID=Europe/Amsterdam:20240326T160000
DTEND;TZID=Europe/Amsterdam:20240326T160000
DTSTAMP:20260421T224928
CREATED:20240304T115257Z
LAST-MODIFIED:20240304T115257Z
UID:38764-1711468800-1711468800@www.gk-voorthuizen.nl
SUMMARY:KOMMA Paasviering
DESCRIPTION:
URL:https://www.gk-voorthuizen.nl/agenda-item/komma-paasviering/
END:VEVENT
BEGIN:VEVENT
DTSTART;TZID=Europe/Amsterdam:20240325T190000
DTEND;TZID=Europe/Amsterdam:20240325T200000
DTSTAMP:20260421T224928
CREATED:20231106T183506Z
LAST-MODIFIED:20231222T153402Z
UID:37134-1711393200-1711396800@www.gk-voorthuizen.nl
SUMMARY:Aangepaste catechese
DESCRIPTION:
URL:https://www.gk-voorthuizen.nl/agenda-item/aangepaste-catechese-35/
END:VEVENT
BEGIN:VEVENT
DTSTART;TZID=Europe/Amsterdam:20240324T190000
DTEND;TZID=Europe/Amsterdam:20240324T200000
DTSTAMP:20260421T224928
CREATED:20240129T134912Z
LAST-MODIFIED:20240322T145856Z
UID:38465-1711306800-1711310400@www.gk-voorthuizen.nl
SUMMARY:Avonddienst
DESCRIPTION:Voorganger: ds. Arend-Wim Estié\nBegeleiding: Hein van de Veen \n  \nLiturgie 24-03-2024 19.00
URL:https://www.gk-voorthuizen.nl/agenda-item/avonddienst-11/
END:VEVENT
BEGIN:VEVENT
DTSTART;TZID=Europe/Amsterdam:20240324T103000
DTEND;TZID=Europe/Amsterdam:20240324T113000
DTSTAMP:20260421T224928
CREATED:20240213T191406Z
LAST-MODIFIED:20240322T152043Z
UID:38698-1711276200-1711279800@www.gk-voorthuizen.nl
SUMMARY:Ochtenddienst VIER! - Palmpasen
DESCRIPTION:U bent van harte welkom bij deze dienst in de kerk. \nDaarnaast wordt de dienst ook LIVE uitgezonden.\nDe uitzending begint ongeveer om 09:15\, de dienst zelf begint om 09:30. \nDe uitzendingen zijn te bekijken via  Kerkdienstgemist.nl\, Kerkomroep.nl en via ons eigen  Youtube kanaal \n– Voorganger: Ds. Arjan Berensen\n– Ouderling van dienst: Joke Rodenburg – van der Spek\n– Welkomstteam: Annelies van Putten en Michiel van Putten\n– Muzikale begeleiding:\n– Koster: Yari Bakker\n– KND: Groep 1/2\, Groep 3/4/5 en Groep 6/7/8\n– Collecte: 1. Diaconie 2. VIER!\n– Autodienst: Gerard van de Pol\, 06 – 30 91 39 96\n– Liturgische kleur: Paars\n– Beamer: Evert Hendriksen\n– Video: Robin Bouwman \n  \nLiturgie 24-03-2024 10.30
URL:https://www.gk-voorthuizen.nl/agenda-item/ochtenddienst-vier-palmpasen-1/
END:VEVENT
END:VCALENDAR