BEGIN:VCALENDAR
VERSION:2.0
PRODID:-//Gereformeerde Kerk Voorthuizen - ECPv6.2.6.1//NONSGML v1.0//EN
CALSCALE:GREGORIAN
METHOD:PUBLISH
X-WR-CALNAME:Gereformeerde Kerk Voorthuizen
X-ORIGINAL-URL:https://www.gk-voorthuizen.nl
X-WR-CALDESC:Evenementen voor Gereformeerde Kerk Voorthuizen
REFRESH-INTERVAL;VALUE=DURATION:PT1H
X-Robots-Tag:noindex
X-PUBLISHED-TTL:PT1H
BEGIN:VTIMEZONE
TZID:Europe/Amsterdam
BEGIN:DAYLIGHT
TZOFFSETFROM:+0100
TZOFFSETTO:+0200
TZNAME:CEST
DTSTART:20240331T010000
END:DAYLIGHT
BEGIN:STANDARD
TZOFFSETFROM:+0200
TZOFFSETTO:+0100
TZNAME:CET
DTSTART:20241027T010000
END:STANDARD
END:VTIMEZONE
BEGIN:VEVENT
DTSTART;TZID=Europe/Amsterdam:20240220T093000
DTEND;TZID=Europe/Amsterdam:20240220T120000
DTSTAMP:20260423T004510
CREATED:20240122T145447Z
LAST-MODIFIED:20240122T145447Z
UID:38201-1708421400-1708430400@www.gk-voorthuizen.nl
SUMMARY:Open morgen voor vrouwen
DESCRIPTION:
URL:https://www.gk-voorthuizen.nl/agenda-item/open-morgen-voor-vrouwen-27/
END:VEVENT
BEGIN:VEVENT
DTSTART;TZID=Europe/Amsterdam:20240218T190000
DTEND;TZID=Europe/Amsterdam:20240218T200000
DTSTAMP:20260423T004510
CREATED:20240209T034048Z
LAST-MODIFIED:20240216T081529Z
UID:38675-1708282800-1708286400@www.gk-voorthuizen.nl
SUMMARY:Avonddienst - ZING!
DESCRIPTION:U bent van harte welkom bij deze dienst in de kerk. \nDaarnaast wordt de dienst ook LIVE uitgezonden.\nDe uitzending begint ongeveer om 18:45\, de dienst zelf begint om 19:00 \nDe uitzendingen zijn te bekijken via  Kerkdienstgemist.nl\, Kerkomroep.nl en via ons eigen  Youtube kanaal \n– Voorganger: Ds. P. van der Ende – Rijnsburg\n– Ouderling van dienst: Janko van der Vlist\n– Muzikale begeleiding: Hein van de Veen – Kwartet Expectation\, Margriet van de Kaa – Sopraan\, Betsy Wassink – Alt\, Jaap Buys -Tenor\, Willem Mulder – Bas en Petry Esveldt – piano\n– Koster: Eelko van Malestijn\n– Collecte: 1. Diaconie 2. ZING!\n– Liturgische kleur: Paars\n– Beamer: Patrick Schuiteman\n– Video: Jan Keizerwaard \n  \nLiturgie 18-02-2024 19.00
URL:https://www.gk-voorthuizen.nl/agenda-item/avonddienst-zing-32/
END:VEVENT
BEGIN:VEVENT
DTSTART;TZID=Europe/Amsterdam:20240218T093000
DTEND;TZID=Europe/Amsterdam:20240218T103000
DTSTAMP:20260423T004510
CREATED:20240129T134217Z
LAST-MODIFIED:20240216T081404Z
UID:38449-1708248600-1708252200@www.gk-voorthuizen.nl
SUMMARY:Ochtenddienst - 1e zondag 40 dagentijd
DESCRIPTION:U bent van harte welkom bij deze dienst in de kerk. \nDaarnaast wordt de dienst ook LIVE uitgezonden.\nDe uitzending begint ongeveer om 09:15\, de dienst zelf begint om 09:30 \nDe uitzendingen zijn te bekijken via  Kerkdienstgemist.nl\, Kerkomroep.nl en via ons eigen  Youtube kanaal \n– Voorganger: ds. Arend-Wim Estié\n– Ouderling van dienst: Mieke Kalkman\n– Welkomstteam: Remco van der Geest en Yvette van der Geest\n– Muzikale begeleiding Geurt Albert Buitenhuis\n– Koster: Eelko van Malestijn\n– KND: Groep 1/2\, Groep 3/4/5 en Groep 6/7/8\n– Collecte: 1. Diaconie 2. ZING!\n– Autodienst: Bauke van de Ploeg\, 06 – 22 96 53 83\n– Liturgische kleur: Paars\n– Beamer: Patrick Schuiteman\n– Video: Jan Keizerwaard \n  \nLiturgie 18-02-2024 09.30
URL:https://www.gk-voorthuizen.nl/agenda-item/ochtenddienst-1e-zondag-40-dagentijd-1/
END:VEVENT
BEGIN:VEVENT
DTSTART;TZID=Europe/Amsterdam:20240214T190000
DTEND;TZID=Europe/Amsterdam:20240214T200000
DTSTAMP:20260423T004510
CREATED:20231106T183405Z
LAST-MODIFIED:20240112T181122Z
UID:37108-1707937200-1707940800@www.gk-voorthuizen.nl
SUMMARY:Club groep 7
DESCRIPTION:
URL:https://www.gk-voorthuizen.nl/agenda-item/club-meisjes-groep-7-en-club-meisjes-groep-8-9/
END:VEVENT
BEGIN:VEVENT
DTSTART;TZID=Europe/Amsterdam:20240214T143000
DTEND;TZID=Europe/Amsterdam:20240214T163000
DTSTAMP:20260423T004510
CREATED:20240205T133427Z
LAST-MODIFIED:20240205T133427Z
UID:38572-1707921000-1707928200@www.gk-voorthuizen.nl
SUMMARY:Inloophuis De Ontmoeting
DESCRIPTION:met spelletjes\, creatieve activiteiten en samen fietsen
URL:https://www.gk-voorthuizen.nl/agenda-item/inloophuis-de-ontmoeting/
END:VEVENT
BEGIN:VEVENT
DTSTART;TZID=Europe/Amsterdam:20240213T190000
DTEND;TZID=Europe/Amsterdam:20240213T200000
DTSTAMP:20260423T004510
CREATED:20231106T183404Z
LAST-MODIFIED:20240112T181016Z
UID:37107-1707850800-1707854400@www.gk-voorthuizen.nl
SUMMARY:Club groep 6 en groep 8
DESCRIPTION:
URL:https://www.gk-voorthuizen.nl/agenda-item/club-meisjes-groep-6-9/
END:VEVENT
BEGIN:VEVENT
DTSTART;TZID=Europe/Amsterdam:20240212T190000
DTEND;TZID=Europe/Amsterdam:20240212T200000
DTSTAMP:20260423T004510
CREATED:20231106T183403Z
LAST-MODIFIED:20231222T153707Z
UID:37106-1707764400-1707768000@www.gk-voorthuizen.nl
SUMMARY:Aangepaste catechese
DESCRIPTION:
URL:https://www.gk-voorthuizen.nl/agenda-item/aangepaste-catechese-30/
END:VEVENT
BEGIN:VEVENT
DTSTART;TZID=Europe/Amsterdam:20240211T190000
DTEND;TZID=Europe/Amsterdam:20240211T200000
DTSTAMP:20260423T004510
CREATED:20240129T134141Z
LAST-MODIFIED:20240209T130008Z
UID:38448-1707678000-1707681600@www.gk-voorthuizen.nl
SUMMARY:Avonddienst - HOOR!
DESCRIPTION:U bent van harte welkom bij deze dienst in de kerk! \nDaarnaast wordt de dienst ook LIVE uitgezonden!\nDe uitzending begint ongeveer om 18:45\, de dienst zelf begint om 19:00 \nDe uitzendingen zijn te bekijken via  Kerkdienstgemist.nl\, Kerkomroep.nl en via ons eigen  Youtube kanaal \n– Voorganger: ds. A.H. van Veluw – IJsselmuiden\n– Ouderling van dienst: Jan-Hein Nijhof\n– Muzikale begeleiding: Evert van de Veen\n– Koster: Bert Franken\n– Collecte: 1. Diaconie 2. Kerk\n– Liturgische kleur: Groen\n– Beamer: Nieko Versteeg\n– Video: Robin Bouwman \n  \nLiturgie 11-02-2024 19.00
URL:https://www.gk-voorthuizen.nl/agenda-item/avonddienst-hoor-1/
END:VEVENT
BEGIN:VEVENT
DTSTART;TZID=Europe/Amsterdam:20240211T093000
DTEND;TZID=Europe/Amsterdam:20240211T103000
DTSTAMP:20260423T004510
CREATED:20240129T134120Z
LAST-MODIFIED:20240210T112130Z
UID:38447-1707643800-1707647400@www.gk-voorthuizen.nl
SUMMARY:Ochtenddienst - SKG De Vlindertuin
DESCRIPTION:School Kerk Gezinsdienst met De Vlindertuin \nU bent van harte welkom bij deze dienst in de kerk. \nDaarnaast wordt de dienst ook LIVE uitgezonden.\nDe uitzending begint ongeveer om 09:15\, de dienst zelf begint om 09:30 \nDe uitzendingen zijn te bekijken via  Kerkdienstgemist.nl\, Kerkomroep.nl en via ons eigen  Youtube kanaal \n– Voorganger: Ds. Arjan Berensen\n– Ouderling van dienst: Johan Borren\n– Welkomstteam: Gerda Kruitbosch en Gejonne van de Kamp- van De kraats\n– Muzikale begeleiding:\n– Koster: Bert Franken\n– KND: Nvt\n– Collecte: 1. Diaconie 2. Kerk\n– Autodienst: Henk Ruiter\, 06 295 844 58\n– Liturgische kleur: Groen\n– Beamer: Nieko Versteeg\n– Video: Robin Bouwman \n  \nLiturgie 11-02-2024 09.30 \nLiturgie \n 
URL:https://www.gk-voorthuizen.nl/agenda-item/ochtenddienst-skg-de-vlindertuin-1/
END:VEVENT
BEGIN:VEVENT
DTSTART;TZID=Europe/Amsterdam:20240207T190000
DTEND;TZID=Europe/Amsterdam:20240207T200000
DTSTAMP:20260423T004510
CREATED:20231106T183356Z
LAST-MODIFIED:20240112T180618Z
UID:37102-1707332400-1707336000@www.gk-voorthuizen.nl
SUMMARY:Club groep 7
DESCRIPTION:
URL:https://www.gk-voorthuizen.nl/agenda-item/club-jongens-groep-7-8/
END:VEVENT
BEGIN:VEVENT
DTSTART;TZID=Europe/Amsterdam:20240207T143000
DTEND;TZID=Europe/Amsterdam:20240207T163000
DTSTAMP:20260423T004510
CREATED:20240205T133224Z
LAST-MODIFIED:20240205T133249Z
UID:38568-1707316200-1707323400@www.gk-voorthuizen.nl
SUMMARY:Inloophuis De Ontmoeting
DESCRIPTION:met spelletjes\, creatieve activiteiten en samen fietsen
URL:https://www.gk-voorthuizen.nl/agenda-item/inloophuis-de-ontmoetint/
END:VEVENT
BEGIN:VEVENT
DTSTART;TZID=Europe/Amsterdam:20240206T190000
DTEND;TZID=Europe/Amsterdam:20240206T200000
DTSTAMP:20260423T004510
CREATED:20231106T183355Z
LAST-MODIFIED:20240112T180533Z
UID:37101-1707246000-1707249600@www.gk-voorthuizen.nl
SUMMARY:Club groep 6 en groep 8
DESCRIPTION:
URL:https://www.gk-voorthuizen.nl/agenda-item/club-jongens-groep-8-8/
END:VEVENT
BEGIN:VEVENT
DTSTART;TZID=Europe/Amsterdam:20240206T093000
DTEND;TZID=Europe/Amsterdam:20240206T120000
DTSTAMP:20260423T004510
CREATED:20240122T145414Z
LAST-MODIFIED:20240122T145414Z
UID:38196-1707211800-1707220800@www.gk-voorthuizen.nl
SUMMARY:Open morgen voor vrouwen
DESCRIPTION:
URL:https://www.gk-voorthuizen.nl/agenda-item/open-morgen-voor-vrouwen-25/
END:VEVENT
BEGIN:VEVENT
DTSTART;TZID=Europe/Amsterdam:20240205T190000
DTEND;TZID=Europe/Amsterdam:20240205T200000
DTSTAMP:20260423T004510
CREATED:20231106T183347Z
LAST-MODIFIED:20231222T153735Z
UID:37100-1707159600-1707163200@www.gk-voorthuizen.nl
SUMMARY:Aangepaste catechese
DESCRIPTION:
URL:https://www.gk-voorthuizen.nl/agenda-item/aangepaste-catechese-29/
END:VEVENT
BEGIN:VEVENT
DTSTART;TZID=Europe/Amsterdam:20240204T190000
DTEND;TZID=Europe/Amsterdam:20240204T200000
DTSTAMP:20260423T004510
CREATED:20240129T124050Z
LAST-MODIFIED:20240129T135051Z
UID:38445-1707073200-1707076800@www.gk-voorthuizen.nl
SUMMARY:Avonddienst - ZING! Martin Luther King
DESCRIPTION:U bent van harte welkom bij deze dienst in de kerk. \nDaarnaast wordt de dienst ook LIVE uitgezonden. De uitzending begint ongeveer om 18:45\, de dienst zelf begint om 19:00 \nDe uitzendingen zijn te bekijken via  Kerkdienstgemist.nl\, Kerkomroep.nl en via ons eigen  Youtube kanaal \n– Voorganger: ds. A. van der Spek – Ouderling van dienst: Joke Rodenburg – van der Spek  – Muzikale begeleiding:  – Koster: Bert van Veen – Collecte: 1. Werelddiaconaat 2. ZING! – Liturgische kleur: Groen – Beamer: Evert Hendriksen – Video: Henk Stoter
URL:https://www.gk-voorthuizen.nl/agenda-item/avonddienst-zing-martin-luther-king-1/
END:VEVENT
BEGIN:VEVENT
DTSTART;TZID=Europe/Amsterdam:20240204T093000
DTEND;TZID=Europe/Amsterdam:20240204T103000
DTSTAMP:20260423T004510
CREATED:20240129T134055Z
LAST-MODIFIED:20240202T141925Z
UID:38446-1707039000-1707042600@www.gk-voorthuizen.nl
SUMMARY:Ochtenddienst
DESCRIPTION:U bent van harte welkom bij deze dienst in de kerk. \nDaarnaast wordt de dienst ook LIVE uitgezonden.\nDe uitzending begint ongeveer om 09:15\, de dienst zelf begint om 09:30 \nDe uitzendingen zijn te bekijken via  Kerkdienstgemist.nl\, Kerkomroep.nl en via ons eigen  Youtube kanaal \n– Voorganger: ds. Arend-Wim Estié\n– Ouderling van dienst: Riek Schut\n– Welkomstteam: Marjan Schimmel-Dam en Hennie van Ramshorst\n– Muzikale begeleiding: Jurriena Dijkema\n– Koster: Bert van Veen\n– KND: Groep 1/2 en Groep 3/4/5\n– Collecte: 1. Werelddiaconaat 2. ZING!\n– Autodienst: Henk Bossenbroek\, 06 250 662 49\n– Liturgische kleur: Groen\n– Beamer: Evert Hendriksen\n– Video: Henk Stoter \n  \nLiturgie 04-02-2024 09.30
URL:https://www.gk-voorthuizen.nl/agenda-item/ochtenddienst-1/
END:VEVENT
BEGIN:VEVENT
DTSTART;TZID=Europe/Amsterdam:20240131T190000
DTEND;TZID=Europe/Amsterdam:20240131T200000
DTSTAMP:20260423T004510
CREATED:20231106T183346Z
LAST-MODIFIED:20240112T180434Z
UID:37097-1706727600-1706731200@www.gk-voorthuizen.nl
SUMMARY:Club groep 7
DESCRIPTION:
URL:https://www.gk-voorthuizen.nl/agenda-item/club-meisjes-groep-7-en-club-meisjes-groep-8-8/
END:VEVENT
BEGIN:VEVENT
DTSTART;TZID=Europe/Amsterdam:20240130T190000
DTEND;TZID=Europe/Amsterdam:20240130T200000
DTSTAMP:20260423T004510
CREATED:20231106T183345Z
LAST-MODIFIED:20240112T180339Z
UID:37096-1706641200-1706644800@www.gk-voorthuizen.nl
SUMMARY:Club groep 6 en groep 8
DESCRIPTION:
URL:https://www.gk-voorthuizen.nl/agenda-item/club-meisjes-groep-6-8/
END:VEVENT
BEGIN:VEVENT
DTSTART;TZID=Europe/Amsterdam:20240130T170000
DTEND;TZID=Europe/Amsterdam:20240130T170000
DTSTAMP:20260423T004510
CREATED:20240120T120131Z
LAST-MODIFIED:20240120T120131Z
UID:38184-1706634000-1706634000@www.gk-voorthuizen.nl
SUMMARY:KOMMA maaltijd
DESCRIPTION:
URL:https://www.gk-voorthuizen.nl/agenda-item/komma-maaltijd-2/
END:VEVENT
BEGIN:VEVENT
DTSTART;TZID=Europe/Amsterdam:20240129T190000
DTEND;TZID=Europe/Amsterdam:20240129T200000
DTSTAMP:20260423T004510
CREATED:20231106T183330Z
LAST-MODIFIED:20231222T145843Z
UID:37095-1706554800-1706558400@www.gk-voorthuizen.nl
SUMMARY:Aangepaste catechese
DESCRIPTION:
URL:https://www.gk-voorthuizen.nl/agenda-item/aangepaste-catechese-28/
END:VEVENT
BEGIN:VEVENT
DTSTART;TZID=Europe/Amsterdam:20240128T113000
DTEND;TZID=Europe/Amsterdam:20240128T123000
DTSTAMP:20260423T004510
CREATED:20240124T124353Z
LAST-MODIFIED:20240124T124355Z
UID:38318-1706441400-1706445000@www.gk-voorthuizen.nl
SUMMARY:Tweede Morgendienst - VIER!
DESCRIPTION:
URL:https://www.gk-voorthuizen.nl/agenda-item/tweede-morgendienst---vier-/
END:VEVENT
BEGIN:VEVENT
DTSTART;TZID=Europe/Amsterdam:20240128T093000
DTEND;TZID=Europe/Amsterdam:20240128T103000
DTSTAMP:20260423T004510
CREATED:20231222T145135Z
LAST-MODIFIED:20240126T095139Z
UID:37717-1706434200-1706437800@www.gk-voorthuizen.nl
SUMMARY:Ochtenddienst
DESCRIPTION:U bent van harte welkom bij deze dienst in de kerk. \nDaarnaast wordt de dienst ook LIVE uitgezonden.\nDe uitzending begint ongeveer om 09:15\, de dienst zelf begint om 09:30. \nDe uitzendingen zijn te bekijken via  Kerkdienstgemist.nl\, Kerkomroep.nl en via ons eigen  Youtube kanaal \n– Voorganger: Ds. Garbrich Baalbergen – Bennekom\n– Ouderling van dienst: Gert-Jan van de Kuilen\n– Welkomstteam: Henk Lokhorst en Rina Lokhorst\n– Muzikale begeleiding: Evert van de Veen\n– Koster: Wiebe Goodijk\n– KND: Nvt\n– Collecte: 1. Jeugdwerk PKN 2. Kerk\n– Autodienst: Gerard van de Pol\, 06 – 30 91 39 96\n– Liturgische kleur: Groen\n– Beamer: Gerrit Coes\n– Video: Eddy Bakker \n  \nLiturgie 28-01-2024 09.30
URL:https://www.gk-voorthuizen.nl/agenda-item/ochtenddienst-55/
END:VEVENT
BEGIN:VEVENT
DTSTART;TZID=Europe/Amsterdam:20240124T190000
DTEND;TZID=Europe/Amsterdam:20240124T200000
DTSTAMP:20260423T004510
CREATED:20231106T183328Z
LAST-MODIFIED:20240127T010440Z
UID:37092-1706122800-1706126400@www.gk-voorthuizen.nl
SUMMARY:Club groep 7
DESCRIPTION:Club groep 7
URL:https://www.gk-voorthuizen.nl/agenda-item/club-jongens-groep-7-7/
END:VEVENT
BEGIN:VEVENT
DTSTART;TZID=Europe/Amsterdam:20240123T190000
DTEND;TZID=Europe/Amsterdam:20240123T200000
DTSTAMP:20260423T004510
CREATED:20231106T183311Z
LAST-MODIFIED:20240112T180144Z
UID:37088-1706036400-1706040000@www.gk-voorthuizen.nl
SUMMARY:Club groep 6 en groep 8
DESCRIPTION:
URL:https://www.gk-voorthuizen.nl/agenda-item/club-jongens-groep-8-7/
END:VEVENT
BEGIN:VEVENT
DTSTART;TZID=Europe/Amsterdam:20240123T093000
DTEND;TZID=Europe/Amsterdam:20240123T120000
DTSTAMP:20260423T004510
CREATED:20240122T145313Z
LAST-MODIFIED:20240122T145313Z
UID:38198-1706002200-1706011200@www.gk-voorthuizen.nl
SUMMARY:Open morgen voor vrouwen
DESCRIPTION:
URL:https://www.gk-voorthuizen.nl/agenda-item/open-morgen-voor-vrouwen-24/
END:VEVENT
BEGIN:VEVENT
DTSTART;TZID=Europe/Amsterdam:20240122T190000
DTEND;TZID=Europe/Amsterdam:20240122T200000
DTSTAMP:20260423T004510
CREATED:20231106T183310Z
LAST-MODIFIED:20231222T145816Z
UID:37087-1705950000-1705953600@www.gk-voorthuizen.nl
SUMMARY:Aangepaste catechese
DESCRIPTION:
URL:https://www.gk-voorthuizen.nl/agenda-item/aangepaste-catechese-27/
END:VEVENT
BEGIN:VEVENT
DTSTART;TZID=Europe/Amsterdam:20240121T190000
DTEND;TZID=Europe/Amsterdam:20240121T200000
DTSTAMP:20260423T004510
CREATED:20231227T140417Z
LAST-MODIFIED:20231227T140418Z
UID:37922-1705863600-1705867200@www.gk-voorthuizen.nl
SUMMARY:Avonddienst - ZING!
DESCRIPTION:U bent van harte welkom bij deze dienst in de kerk. \nDaarnaast wordt de dienst ook LIVE uitgezonden. De uitzending begint ongeveer om 18:45\, de dienst zelf begint om 19:00. \nDe uitzendingen zijn te bekijken via  Kerkdienstgemist.nl\, Kerkomroep.nl en via ons eigen  Youtube kanaal \n– Voorganger: drs. Gerrit Westerlaken – Ouderling van dienst: Jan-Hein Nijhof– Muzikale begeleiding: Geurt Albert Buitenhuis – – Koster: Eelko van Malestijn – Collecte: 1. Cliniclowns 2. ZING! – Liturgische kleur: Groen – Beamer: Patrick Schuiteman – Video: Jan Keizerwaard
URL:https://www.gk-voorthuizen.nl/agenda-item/avonddienst---zing-/
END:VEVENT
BEGIN:VEVENT
DTSTART;TZID=Europe/Amsterdam:20240121T150000
DTEND;TZID=Europe/Amsterdam:20240121T160000
DTSTAMP:20260423T004510
CREATED:20231222T145201Z
LAST-MODIFIED:20231222T145202Z
UID:37719-1705849200-1705852800@www.gk-voorthuizen.nl
SUMMARY:Avondmaalsviering Nieuw Avondrust
DESCRIPTION:
URL:https://www.gk-voorthuizen.nl/agenda-item/avondmaalsviering-nieuw-avondrust/
END:VEVENT
BEGIN:VEVENT
DTSTART;TZID=Europe/Amsterdam:20240121T093000
DTEND;TZID=Europe/Amsterdam:20240121T103000
DTSTAMP:20260423T004510
CREATED:20231227T140401Z
LAST-MODIFIED:20240118T191333Z
UID:37921-1705829400-1705833000@www.gk-voorthuizen.nl
SUMMARY:Ochtenddienst - avondmaalsviering
DESCRIPTION:
URL:https://www.gk-voorthuizen.nl/agenda-item/ochtenddienst---avondmaalsviering/
END:VEVENT
BEGIN:VEVENT
DTSTART;TZID=Europe/Amsterdam:20240119T093000
DTEND;TZID=Europe/Amsterdam:20240119T103000
DTSTAMP:20260423T004510
CREATED:20240620T190200Z
LAST-MODIFIED:20240620T201206Z
UID:39150-1705656600-1705660200@www.gk-voorthuizen.nl
SUMMARY:Ochtenddienst
DESCRIPTION:U bent van harte welkom bij deze dienst in de kerk. \nDaarnaast wordt de dienst ook LIVE uitgezonden. De uitzending begint ongeveer om 09:15\, de dienst zelf begint om 09:30. \nDe uitzendingen zijn te bekijken via  Kerkdienstgemist.nl\, Kerkomroep.nl en via ons eigen  Youtube kanaal \n– Voorganger:  – Ouderling van dienst:  – Welkomstteam:  – Muzikale begeleiding:  – Koster:  – KND:   – Collecte: 1.  2.  – Autodienst:  – Liturgische kleur: Groen – Beamer:  – Video:
URL:https://www.gk-voorthuizen.nl/agenda-item/ochtenddienst-80/
END:VEVENT
END:VCALENDAR