BEGIN:VCALENDAR
VERSION:2.0
PRODID:-//Gereformeerde Kerk Voorthuizen - ECPv6.2.6.1//NONSGML v1.0//EN
CALSCALE:GREGORIAN
METHOD:PUBLISH
X-WR-CALNAME:Gereformeerde Kerk Voorthuizen
X-ORIGINAL-URL:https://www.gk-voorthuizen.nl
X-WR-CALDESC:Evenementen voor Gereformeerde Kerk Voorthuizen
REFRESH-INTERVAL;VALUE=DURATION:PT1H
X-Robots-Tag:noindex
X-PUBLISHED-TTL:PT1H
BEGIN:VTIMEZONE
TZID:Europe/Amsterdam
BEGIN:DAYLIGHT
TZOFFSETFROM:+0100
TZOFFSETTO:+0200
TZNAME:CEST
DTSTART:20230326T010000
END:DAYLIGHT
BEGIN:STANDARD
TZOFFSETFROM:+0200
TZOFFSETTO:+0100
TZNAME:CET
DTSTART:20231029T010000
END:STANDARD
BEGIN:DAYLIGHT
TZOFFSETFROM:+0100
TZOFFSETTO:+0200
TZNAME:CEST
DTSTART:20240331T010000
END:DAYLIGHT
BEGIN:STANDARD
TZOFFSETFROM:+0200
TZOFFSETTO:+0100
TZNAME:CET
DTSTART:20241027T010000
END:STANDARD
END:VTIMEZONE
BEGIN:VEVENT
DTSTART;TZID=Europe/Amsterdam:20240131T190000
DTEND;TZID=Europe/Amsterdam:20240131T200000
DTSTAMP:20260423T004610
CREATED:20231106T183346Z
LAST-MODIFIED:20240112T180434Z
UID:37097-1706727600-1706731200@www.gk-voorthuizen.nl
SUMMARY:Club groep 7
DESCRIPTION:
URL:https://www.gk-voorthuizen.nl/agenda-item/club-meisjes-groep-7-en-club-meisjes-groep-8-8/
END:VEVENT
BEGIN:VEVENT
DTSTART;TZID=Europe/Amsterdam:20240130T190000
DTEND;TZID=Europe/Amsterdam:20240130T200000
DTSTAMP:20260423T004610
CREATED:20231106T183345Z
LAST-MODIFIED:20240112T180339Z
UID:37096-1706641200-1706644800@www.gk-voorthuizen.nl
SUMMARY:Club groep 6 en groep 8
DESCRIPTION:
URL:https://www.gk-voorthuizen.nl/agenda-item/club-meisjes-groep-6-8/
END:VEVENT
BEGIN:VEVENT
DTSTART;TZID=Europe/Amsterdam:20240130T170000
DTEND;TZID=Europe/Amsterdam:20240130T170000
DTSTAMP:20260423T004610
CREATED:20240120T120131Z
LAST-MODIFIED:20240120T120131Z
UID:38184-1706634000-1706634000@www.gk-voorthuizen.nl
SUMMARY:KOMMA maaltijd
DESCRIPTION:
URL:https://www.gk-voorthuizen.nl/agenda-item/komma-maaltijd-2/
END:VEVENT
BEGIN:VEVENT
DTSTART;TZID=Europe/Amsterdam:20240129T190000
DTEND;TZID=Europe/Amsterdam:20240129T200000
DTSTAMP:20260423T004610
CREATED:20231106T183330Z
LAST-MODIFIED:20231222T145843Z
UID:37095-1706554800-1706558400@www.gk-voorthuizen.nl
SUMMARY:Aangepaste catechese
DESCRIPTION:
URL:https://www.gk-voorthuizen.nl/agenda-item/aangepaste-catechese-28/
END:VEVENT
BEGIN:VEVENT
DTSTART;TZID=Europe/Amsterdam:20240128T113000
DTEND;TZID=Europe/Amsterdam:20240128T123000
DTSTAMP:20260423T004610
CREATED:20240124T124353Z
LAST-MODIFIED:20240124T124355Z
UID:38318-1706441400-1706445000@www.gk-voorthuizen.nl
SUMMARY:Tweede Morgendienst - VIER!
DESCRIPTION:
URL:https://www.gk-voorthuizen.nl/agenda-item/tweede-morgendienst---vier-/
END:VEVENT
BEGIN:VEVENT
DTSTART;TZID=Europe/Amsterdam:20240128T093000
DTEND;TZID=Europe/Amsterdam:20240128T103000
DTSTAMP:20260423T004610
CREATED:20231222T145135Z
LAST-MODIFIED:20240126T095139Z
UID:37717-1706434200-1706437800@www.gk-voorthuizen.nl
SUMMARY:Ochtenddienst
DESCRIPTION:U bent van harte welkom bij deze dienst in de kerk. \nDaarnaast wordt de dienst ook LIVE uitgezonden.\nDe uitzending begint ongeveer om 09:15\, de dienst zelf begint om 09:30. \nDe uitzendingen zijn te bekijken via  Kerkdienstgemist.nl\, Kerkomroep.nl en via ons eigen  Youtube kanaal \n– Voorganger: Ds. Garbrich Baalbergen – Bennekom\n– Ouderling van dienst: Gert-Jan van de Kuilen\n– Welkomstteam: Henk Lokhorst en Rina Lokhorst\n– Muzikale begeleiding: Evert van de Veen\n– Koster: Wiebe Goodijk\n– KND: Nvt\n– Collecte: 1. Jeugdwerk PKN 2. Kerk\n– Autodienst: Gerard van de Pol\, 06 – 30 91 39 96\n– Liturgische kleur: Groen\n– Beamer: Gerrit Coes\n– Video: Eddy Bakker \n  \nLiturgie 28-01-2024 09.30
URL:https://www.gk-voorthuizen.nl/agenda-item/ochtenddienst-55/
END:VEVENT
BEGIN:VEVENT
DTSTART;TZID=Europe/Amsterdam:20240124T190000
DTEND;TZID=Europe/Amsterdam:20240124T200000
DTSTAMP:20260423T004610
CREATED:20231106T183328Z
LAST-MODIFIED:20240127T010440Z
UID:37092-1706122800-1706126400@www.gk-voorthuizen.nl
SUMMARY:Club groep 7
DESCRIPTION:Club groep 7
URL:https://www.gk-voorthuizen.nl/agenda-item/club-jongens-groep-7-7/
END:VEVENT
BEGIN:VEVENT
DTSTART;TZID=Europe/Amsterdam:20240123T190000
DTEND;TZID=Europe/Amsterdam:20240123T200000
DTSTAMP:20260423T004610
CREATED:20231106T183311Z
LAST-MODIFIED:20240112T180144Z
UID:37088-1706036400-1706040000@www.gk-voorthuizen.nl
SUMMARY:Club groep 6 en groep 8
DESCRIPTION:
URL:https://www.gk-voorthuizen.nl/agenda-item/club-jongens-groep-8-7/
END:VEVENT
BEGIN:VEVENT
DTSTART;TZID=Europe/Amsterdam:20240123T093000
DTEND;TZID=Europe/Amsterdam:20240123T120000
DTSTAMP:20260423T004610
CREATED:20240122T145313Z
LAST-MODIFIED:20240122T145313Z
UID:38198-1706002200-1706011200@www.gk-voorthuizen.nl
SUMMARY:Open morgen voor vrouwen
DESCRIPTION:
URL:https://www.gk-voorthuizen.nl/agenda-item/open-morgen-voor-vrouwen-24/
END:VEVENT
BEGIN:VEVENT
DTSTART;TZID=Europe/Amsterdam:20240122T190000
DTEND;TZID=Europe/Amsterdam:20240122T200000
DTSTAMP:20260423T004610
CREATED:20231106T183310Z
LAST-MODIFIED:20231222T145816Z
UID:37087-1705950000-1705953600@www.gk-voorthuizen.nl
SUMMARY:Aangepaste catechese
DESCRIPTION:
URL:https://www.gk-voorthuizen.nl/agenda-item/aangepaste-catechese-27/
END:VEVENT
BEGIN:VEVENT
DTSTART;TZID=Europe/Amsterdam:20240121T190000
DTEND;TZID=Europe/Amsterdam:20240121T200000
DTSTAMP:20260423T004610
CREATED:20231227T140417Z
LAST-MODIFIED:20231227T140418Z
UID:37922-1705863600-1705867200@www.gk-voorthuizen.nl
SUMMARY:Avonddienst - ZING!
DESCRIPTION:U bent van harte welkom bij deze dienst in de kerk. \nDaarnaast wordt de dienst ook LIVE uitgezonden. De uitzending begint ongeveer om 18:45\, de dienst zelf begint om 19:00. \nDe uitzendingen zijn te bekijken via  Kerkdienstgemist.nl\, Kerkomroep.nl en via ons eigen  Youtube kanaal \n– Voorganger: drs. Gerrit Westerlaken – Ouderling van dienst: Jan-Hein Nijhof– Muzikale begeleiding: Geurt Albert Buitenhuis – – Koster: Eelko van Malestijn – Collecte: 1. Cliniclowns 2. ZING! – Liturgische kleur: Groen – Beamer: Patrick Schuiteman – Video: Jan Keizerwaard
URL:https://www.gk-voorthuizen.nl/agenda-item/avonddienst---zing-/
END:VEVENT
BEGIN:VEVENT
DTSTART;TZID=Europe/Amsterdam:20240121T150000
DTEND;TZID=Europe/Amsterdam:20240121T160000
DTSTAMP:20260423T004610
CREATED:20231222T145201Z
LAST-MODIFIED:20231222T145202Z
UID:37719-1705849200-1705852800@www.gk-voorthuizen.nl
SUMMARY:Avondmaalsviering Nieuw Avondrust
DESCRIPTION:
URL:https://www.gk-voorthuizen.nl/agenda-item/avondmaalsviering-nieuw-avondrust/
END:VEVENT
BEGIN:VEVENT
DTSTART;TZID=Europe/Amsterdam:20240121T093000
DTEND;TZID=Europe/Amsterdam:20240121T103000
DTSTAMP:20260423T004610
CREATED:20231227T140401Z
LAST-MODIFIED:20240118T191333Z
UID:37921-1705829400-1705833000@www.gk-voorthuizen.nl
SUMMARY:Ochtenddienst - avondmaalsviering
DESCRIPTION:
URL:https://www.gk-voorthuizen.nl/agenda-item/ochtenddienst---avondmaalsviering/
END:VEVENT
BEGIN:VEVENT
DTSTART;TZID=Europe/Amsterdam:20240119T093000
DTEND;TZID=Europe/Amsterdam:20240119T103000
DTSTAMP:20260423T004610
CREATED:20240620T190200Z
LAST-MODIFIED:20240620T201206Z
UID:39150-1705656600-1705660200@www.gk-voorthuizen.nl
SUMMARY:Ochtenddienst
DESCRIPTION:U bent van harte welkom bij deze dienst in de kerk. \nDaarnaast wordt de dienst ook LIVE uitgezonden. De uitzending begint ongeveer om 09:15\, de dienst zelf begint om 09:30. \nDe uitzendingen zijn te bekijken via  Kerkdienstgemist.nl\, Kerkomroep.nl en via ons eigen  Youtube kanaal \n– Voorganger:  – Ouderling van dienst:  – Welkomstteam:  – Muzikale begeleiding:  – Koster:  – KND:   – Collecte: 1.  2.  – Autodienst:  – Liturgische kleur: Groen – Beamer:  – Video:
URL:https://www.gk-voorthuizen.nl/agenda-item/ochtenddienst-80/
END:VEVENT
BEGIN:VEVENT
DTSTART;TZID=Europe/Amsterdam:20240117T190000
DTEND;TZID=Europe/Amsterdam:20240117T200000
DTSTAMP:20260423T004610
CREATED:20231106T183309Z
LAST-MODIFIED:20240112T180021Z
UID:37084-1705518000-1705521600@www.gk-voorthuizen.nl
SUMMARY:Club groep 7
DESCRIPTION:
URL:https://www.gk-voorthuizen.nl/agenda-item/club-meisjes-groep-7-en-club-meisjes-groep-8-7/
END:VEVENT
BEGIN:VEVENT
DTSTART;TZID=Europe/Amsterdam:20240116T190000
DTEND;TZID=Europe/Amsterdam:20240116T200000
DTSTAMP:20260423T004610
CREATED:20231106T183251Z
LAST-MODIFIED:20240112T175844Z
UID:37082-1705431600-1705435200@www.gk-voorthuizen.nl
SUMMARY:Club groep 6 en groep 8
DESCRIPTION:
URL:https://www.gk-voorthuizen.nl/agenda-item/club-meisjes-groep-6-7/
END:VEVENT
BEGIN:VEVENT
DTSTART;TZID=Europe/Amsterdam:20240115T190000
DTEND;TZID=Europe/Amsterdam:20240115T200000
DTSTAMP:20260423T004610
CREATED:20231106T183251Z
LAST-MODIFIED:20231222T144742Z
UID:37081-1705345200-1705348800@www.gk-voorthuizen.nl
SUMMARY:Aangepaste catechese
DESCRIPTION:
URL:https://www.gk-voorthuizen.nl/agenda-item/aangepaste-catechese-26/
END:VEVENT
BEGIN:VEVENT
DTSTART;TZID=Europe/Amsterdam:20240114T190000
DTEND;TZID=Europe/Amsterdam:20240114T200000
DTSTAMP:20260423T004610
CREATED:20231222T145228Z
LAST-MODIFIED:20240101T085135Z
UID:37721-1705258800-1705262400@www.gk-voorthuizen.nl
SUMMARY:Avonddienst - HOOR!
DESCRIPTION:U bent van harte welkom bij deze dienst in de kerk. \nDaarnaast wordt de dienst ook LIVE uitgezonden. De uitzending begint ongeveer om 18:45\, de dienst zelf begint om 19:00. \nDe uitzendingen zijn te bekijken via  Kerkdienstgemist.nl\, Kerkomroep.nl en via ons eigen  Youtube kanaal \n– Voorganger: ds. B.J. Heusinkveld – Daarle – Ouderling van dienst: Ben Taken– Muzikale begeleiding: Jurriena Dijkema  – Koster: Yari Bakker – Collecte: 1. Binnenlands diaconaat 2. Kerk – Liturgische kleur: Groen – Beamer: Evert Hendriksen – Video: Robin Bouwman
URL:https://www.gk-voorthuizen.nl/agenda-item/avonddienst---hoor-/
END:VEVENT
BEGIN:VEVENT
DTSTART;TZID=Europe/Amsterdam:20240114T093000
DTEND;TZID=Europe/Amsterdam:20240114T103000
DTSTAMP:20260423T004610
CREATED:20240102T101555Z
LAST-MODIFIED:20240112T174516Z
UID:37999-1705224600-1705228200@www.gk-voorthuizen.nl
SUMMARY:Ochtenddienst
DESCRIPTION:U bent van harte welkom bij deze dienst in de kerk. \nVanmorgen zal Wuf Bouw worden ingezegend als vertrouwenspersoon van de kerk. \nDaarnaast wordt de dienst ook LIVE uitgezonden.\nDe uitzending begint ongeveer om 09:15\, de dienst zelf begint om 09:30. \nDe uitzendingen zijn te bekijken via  Kerkdienstgemist.nl\, Kerkomroep.nl en via ons eigen  Youtube kanaal \n– Voorganger: Ds. Arjan Berensen\n– Ouderling van dienst: Beatrix Tobori\n– Welkomstteam: Greet Keizerwaard en Fenna Versteeg\n– Muzikale begeleiding: Evert van de Veen\n– Koster: Yari Bakker\n– KND: Groep 1/2 en Groep 3/4/5\n– Collecte: 1. Binnenlands diaconaat 2. Kerk\n– Autodienst: René Kerbel\, 06 558 002 57\n– Liturgische kleur: Groen\n– Beamer: Evert Hendriksen\n– Video: Robin Bouwman \n  \nLiturgie 14-01-2024 09.30
URL:https://www.gk-voorthuizen.nl/agenda-item/ochtenddienst-53/
END:VEVENT
BEGIN:VEVENT
DTSTART;TZID=Europe/Amsterdam:20240112T190000
DTEND;TZID=Europe/Amsterdam:20240112T210000
DTSTAMP:20260423T004610
CREATED:20231106T183249Z
LAST-MODIFIED:20231222T144356Z
UID:37078-1705086000-1705093200@www.gk-voorthuizen.nl
SUMMARY:Club Nieuwjaarsdisco
DESCRIPTION:
URL:https://www.gk-voorthuizen.nl/agenda-item/club-nieuwjaarsdisco-2/
END:VEVENT
BEGIN:VEVENT
DTSTART;TZID=Europe/Amsterdam:20240112T093000
DTEND;TZID=Europe/Amsterdam:20240112T113000
DTSTAMP:20260423T004610
CREATED:20240112T182113Z
LAST-MODIFIED:20240112T182113Z
UID:38158-1705051800-1705059000@www.gk-voorthuizen.nl
SUMMARY:Open morgen voor vrouwen
DESCRIPTION:09.15 staat de koffie klaar
URL:https://www.gk-voorthuizen.nl/agenda-item/open-morgen-voor-vrouwen-26/
END:VEVENT
BEGIN:VEVENT
DTSTART;TZID=Europe/Amsterdam:20240108T190000
DTEND;TZID=Europe/Amsterdam:20240108T200000
DTSTAMP:20260423T004610
CREATED:20231106T183231Z
LAST-MODIFIED:20240103T150751Z
UID:37076-1704740400-1704744000@www.gk-voorthuizen.nl
SUMMARY:Aangepaste catechese
DESCRIPTION:
URL:https://www.gk-voorthuizen.nl/agenda-item/aangepaste-catechese-25/
END:VEVENT
BEGIN:VEVENT
DTSTART;TZID=Europe/Amsterdam:20240107T190000
DTEND;TZID=Europe/Amsterdam:20240107T200000
DTSTAMP:20260423T004610
CREATED:20231222T144058Z
LAST-MODIFIED:20231222T144059Z
UID:37708-1704654000-1704657600@www.gk-voorthuizen.nl
SUMMARY:Avonddienst - LEER!
DESCRIPTION:U bent van harte welkom bij deze dienst in de kerk. \nDaarnaast wordt de dienst ook LIVE uitgezonden. De uitzending begint ongeveer om 18:45\, de dienst zelf begint om 19:00. \nDe uitzendingen zijn te bekijken via  Kerkdienstgemist.nl\, Kerkomroep.nl en via ons eigen  Youtube kanaal \n– Voorganger: ds. Arend-Wim EstiÃ© – Ouderling van dienst: Hiska Klein Hofmeijer-Roskam– Muzikale begeleiding: Evert van de Veen  – Koster: Ruben Kalkman – Collecte: 1. Bloemencommissie 2. Kerk – Liturgische kleur: Groen – Beamer: Nieko Versteeg – Video: Henk Stoter
URL:https://www.gk-voorthuizen.nl/agenda-item/avonddienst---leer-/
END:VEVENT
BEGIN:VEVENT
DTSTART;TZID=Europe/Amsterdam:20240107T093000
DTEND;TZID=Europe/Amsterdam:20240107T103000
DTSTAMP:20260423T004610
CREATED:20240102T101544Z
LAST-MODIFIED:20240105T070352Z
UID:37998-1704619800-1704623400@www.gk-voorthuizen.nl
SUMMARY:Ochtenddienst
DESCRIPTION:U bent van harte welkom bij deze dienst in de kerk. \nDaarnaast wordt de dienst ook LIVE uitgezonden.\nDe uitzending begint ongeveer om 09:15\, de dienst zelf begint om 09:30. \nDe uitzendingen zijn te bekijken via  Kerkdienstgemist.nl\, Kerkomroep.nl en via ons eigen  Youtube kanaal \n– Voorganger: ds. K.W. de Jong – Woerden\n– Ouderling van dienst: Henry Bouw\n– Welkomstteam: Jitske Wijnveen en Bram Wijnveen\n– Muzikale begeleiding: Hein van de Veen\n– Koster: Ruben Kalkman\n– KND: Groep 1/2\, Groep 3/4/5 en Groep 6/7/8\n– Collecte: 1. Bloemencommissie 2. Kerk\n– Autodienst: Peter van de Kamp\, 06 – 46 18 75 06\n– Liturgische kleur: Groen\n– Beamer: Nieko Versteeg\n– Video: Henk Stoter \n  \nLiturgie 07-01-2024 09.30
URL:https://www.gk-voorthuizen.nl/agenda-item/ochtenddienst-54/
END:VEVENT
BEGIN:VEVENT
DTSTART;TZID=Europe/Amsterdam:20240103T190000
DTEND;TZID=Europe/Amsterdam:20240103T200000
DTSTAMP:20260423T004610
CREATED:20240103T151215Z
LAST-MODIFIED:20240103T151215Z
UID:38003-1704308400-1704312000@www.gk-voorthuizen.nl
SUMMARY:Aangepaste catechese\, slotavond
DESCRIPTION:Slotavond in de Goede Herderkerk in Barneveld
URL:https://www.gk-voorthuizen.nl/agenda-item/aangepaste-catechese-slotavond/
END:VEVENT
BEGIN:VEVENT
DTSTART;TZID=Europe/Amsterdam:20240101T101500
DTEND;TZID=Europe/Amsterdam:20240101T111500
DTSTAMP:20260423T004610
CREATED:20231222T211212Z
LAST-MODIFIED:20231229T165155Z
UID:37904-1704104100-1704107700@www.gk-voorthuizen.nl
SUMMARY:Nieuwjaarsdienst
DESCRIPTION:U bent van harte welkom bij deze dienst in de kerk. \nDaarnaast wordt de dienst ook LIVE uitgezonden.\nDe uitzending begint ongeveer om 10:00\, de dienst zelf begint om 10:15. \nDe uitzendingen zijn te bekijken via  Kerkdienstgemist.nl\, Kerkomroep.nl en via ons eigen  Youtube kanaal \n– Voorganger: ds. Arend-Wim Estié\n– Ouderling van dienst: Mieke Kalkman\n– Welkomstteam: Otto van Middendorp en Alie van Middendorp\n– Muzikale begeleiding: Evert van de Veen\n– Koster: Bert Franken\n– KND:  \n– Collecte: 1. Diaconie 2. Kerk\n– Autodienst: Henk van Hierden\, 06 – 13 89 17 15\n– Liturgische kleur: Wit\n– Beamer: Evert Hendriksen\n– Video: Hein van de Veen \n  \nLiturgie 01-01-2024 10.15
URL:https://www.gk-voorthuizen.nl/agenda-item/nieuwjaarsdienst-2/
END:VEVENT
BEGIN:VEVENT
DTSTART;TZID=Europe/Amsterdam:20231231T190000
DTEND;TZID=Europe/Amsterdam:20231231T200000
DTSTAMP:20260423T004610
CREATED:20231227T135851Z
LAST-MODIFIED:20231229T165053Z
UID:37918-1704049200-1704052800@www.gk-voorthuizen.nl
SUMMARY:Oudejaarsdienst
DESCRIPTION:U bent van harte welkom bij deze dienst in de kerk. \nDaarnaast wordt de dienst ook LIVE uitgezonden.\nDe uitzending begint ongeveer om 18:45\, de dienst zelf begint om 19:00. \nDe uitzendingen zijn te bekijken via  Kerkdienstgemist.nl\, Kerkomroep.nl en via ons eigen  Youtube kanaal \n– Voorganger: ds. Arend-Wim Estié\n– Ouderling van dienst: Beatrix Tobori\n– Muzikale begeleiding: Evert van de Veen\n– Koster: Bert van Veen\n– Collecte: 1. Bartimeusfonds 2. Kerk\n– Liturgische kleur: Wit\n– Beamer: Gerrit Coes\n– Video: Jan Keizerwaard \n  \nLiturgie 31-12-2023 19.00
URL:https://www.gk-voorthuizen.nl/agenda-item/oudejaarsdienst-4/
END:VEVENT
BEGIN:VEVENT
DTSTART;TZID=Europe/Amsterdam:20231231T093000
DTEND;TZID=Europe/Amsterdam:20231231T103000
DTSTAMP:20260423T004610
CREATED:20231227T140120Z
LAST-MODIFIED:20231229T164942Z
UID:37920-1704015000-1704018600@www.gk-voorthuizen.nl
SUMMARY:Ochtenddienst
DESCRIPTION:U bent van harte welkom bij deze dienst in de kerk. \nDaarnaast wordt de dienst ook LIVE uitgezonden.\nDe uitzending begint ongeveer om 09:15\, de dienst zelf begint om 09:30. \nDe uitzendingen zijn te bekijken via  Kerkdienstgemist.nl\, Kerkomroep.nl en via ons eigen  Youtube kanaal \n– Voorganger: ds. Arend-Wim Estié\n– Ouderling van dienst: Beatrix Tobori\n– Welkomstteam: Alette Coes en Greet Keizerwaard\n– Muzikale begeleiding: Evert van de Veen\n– Koster: Bert van Veen\n– KND: Groep 1/2 en Groep 3/4/5\n– Collecte: 1. Bartimeusfonds 2. Kerk\n– Autodienst: Jan Laanstra\, 06 – 22 39 69 14\n– Liturgische kleur:\n– Beamer: Patrick Schuiteman\n– Video: Eddy Bakker \n  \nLiturgie 31-12-2023 09.30 \n 
URL:https://www.gk-voorthuizen.nl/agenda-item/ochtenddienst-52/
END:VEVENT
BEGIN:VEVENT
DTSTART;TZID=Europe/Amsterdam:20231229T100000
DTEND;TZID=Europe/Amsterdam:20231229T100000
DTSTAMP:20260423T004610
CREATED:20231106T183212Z
LAST-MODIFIED:20231222T162258Z
UID:37069-1703844000-1703844000@www.gk-voorthuizen.nl
SUMMARY:Inloophuis creatieve inloop en inleveren voor Voedselbank
DESCRIPTION:
URL:https://www.gk-voorthuizen.nl/agenda-item/inloophuis-creatieve-inloop-en-inleveren-voor-voedselbank-14/
END:VEVENT
BEGIN:VEVENT
DTSTART;TZID=Europe/Amsterdam:20231227T143000
DTEND;TZID=Europe/Amsterdam:20231227T143000
DTSTAMP:20260423T004610
CREATED:20231106T183212Z
LAST-MODIFIED:20231222T162252Z
UID:37068-1703687400-1703687400@www.gk-voorthuizen.nl
SUMMARY:Inloophuis spelletjes en fietsen en inleveren voor Voedselbank
DESCRIPTION:
URL:https://www.gk-voorthuizen.nl/agenda-item/inloophuis-spelletjes-en-fietsen-en-inleveren-voor-voedselbank-14/
END:VEVENT
END:VCALENDAR